BEGIN:VCALENDAR
VERSION:2.0
PRODID:-//AllEvents.lt//NONSGML Event//EN
BEGIN:VEVENT
UID:123619@allevents.lt
DTSTAMP:20260425T151159Z
DTSTART:20260508T180000
DTEND:20260508T190000
SUMMARY:Paramos koncertas „Vanduo kuria gyvenimą“ - AllEvents.lt
DESCRIPTION:https://allevents.lt/koncertai/gargzdai/gargzdu-kulturos-centro-4-vandenu-renginiu-sale/123619-koncertas-paramos-koncertas-vanduo-kuria-gyvenima-gargzdai-2026-bilietai\n\n\nVanduo – gyvybės šaltinis, stiprybės ir vilties simbolis. Jis teka per mūsų gyvenimus, nešdamas gyvybę, ramybę ir atsinaujinimą. Kaip vanduo jungia upes, ežerus ir jūras, taip žmonių gerumas ir vienybė gali sujungti širdis tada, kai labiausiai reikia pagalbos.\n\nKviečiame visus į ypatingą paramos koncertą „Vanduo kuria gyvenimą“ – vakarą, kuriame muzika, šokis ir bendrystė susijungs dėl kilnaus tikslo.\n\nŠiandien mūsų pagalbos reikia gargždiškiui Deividui Šarkauskui. Jo gyvenimas vos per kelias dienas pasikeitė neatpažįstamai – Deividas sunkios būklės guli ligoninėje Tailande ir kovoja už galimybę gyventi, atsitiesti ir grįžti namo. Šioje sunkioje kovoje jam ir jo šeimai labai reikalingas mūsų visų palaikymas.\n\n \n\nRenginys nemokamas. Taikomas 1 Eur vietos rezervacijos mokestis.\n\nAtėjusieji į koncertą galės aukoti į specialią aukų dėžutę.Visa surinkta parama bus skirta Deivido Šarkausko gydymui.\n\nVakaro metu pasirodys:\n\nVaikų šokių studija „Trepsiukas“.\n\nŠokių studija „Delingo“.\n\nŠokių ir dainų ansamblis „Minija“.\n\nAteikite ir dovanokite viltį. \n
LOCATION:Gargždai, , Gargždų kultūros centro „4 VANDENŲ“ renginių salė
BEGIN:VALARM
TRIGGER:-P2D
ACTION:DISPLAY
DESCRIPTION:Go to Paramos koncertas „Vanduo kuria gyvenimą“!
END:VALARM
END:VEVENT
END:VCALENDAR
