BEGIN:VCALENDAR
VERSION:2.0
PRODID:-//AllEvents.lt//NONSGML Event//EN
BEGIN:VEVENT
UID:123620@allevents.lt
DTSTAMP:20260425T150151Z
DTSTART:20260508T200000
DTEND:20260508T210000
SUMMARY:EGIDIJUS SIPAVIČIUS | RUBIX - AllEvents.lt
DESCRIPTION:https://allevents.lt/koncertai/vasario-16-osios-g-48-siauliai/rubix-klubas/123620-koncertas-egidijus-sipavicius-rubix-vasario-16-osios-g-48-siauliai-2026-bilietai\n\n\n\n\n\n\n\n\n\n\n\nAUKSINIAI HITAI GRĮŽTA Į RUBIX \n\n \n\nGegužės 8-oji RUBIX'e — specialus auksinių hitų vakaras su Egidijum Sipavičiumi! Dainos, kurias žino visa Lietuva: Diskoteka, Miškų Dukra, Žalios Vyšnios ir dar dešimtys klasikos, kuriuos dainuosime kartu!\n\n \n\n\n\nTai ne tiesiog koncertas — tai laiko mašina į geriausius 80-ųjų ir 90-ųjų vakarus. Gyvas garsas, Prisiminimai ir Atmosfera, kurios niekur kitur nerasi.\n\n \n\n\n\nScenoje: Egidijus Sipavičius\n\n \n\nAuksiniai hitai — visos žinomos dainos\n\n \n\nGyva muzika ir nepamirštama atmosfera\n\n \n\n\n\nGegužės 8 d.\n\n \n\nRUBIX Šiauliai\n\n \n\nRezervacijos: +370 69199223\n\n \n\nDainos, kurios lieka širdyje. Būk ten.\n\n\n\n\n\n\n\n\n\n\n \n
LOCATION:Vasario 16-osios g. 48, Šiauliai, , Rubix klubas
BEGIN:VALARM
TRIGGER:-P2D
ACTION:DISPLAY
DESCRIPTION:Go to EGIDIJUS SIPAVIČIUS | RUBIX!
END:VALARM
END:VEVENT
END:VCALENDAR
