BEGIN:VCALENDAR
VERSION:2.0
PRODID:-//AllEvents.lt//NONSGML Event//EN
BEGIN:VEVENT
UID:123621@allevents.lt
DTSTAMP:20260425T151246Z
DTSTART:20260515T180000
DTEND:20260515T190000
SUMMARY:Regioninė šeimų duetų šventė „Iš visos širdies“ - AllEvents.lt
DESCRIPTION:https://allevents.lt/koncertai/kelme/kelmes-profesinio-rengimo-centro-sale/123621-koncertas-regionine-seimu-duetu-svente-is-visos-sirdies-kelme-2026-bilietai\n\n\nDalyviai:Sandra ir Alfonsas Giedrai (Šiauliai); Virginijus Kacilevičius su dukra Marija Kacilevičiūte – Damuliene (Vilnius/Linkuva); Gitana ir Giedrius Morkai (Ginkūnai); Sigutė Stonienė su dukra Kamile Stonyte (Pakražantis, Kelmės r.); Rasa ir Valdas Armonai (Natkiškiai, Pagėgių r.)\n
LOCATION:Kelmė, , Kelmės profesinio rengimo centro salė
BEGIN:VALARM
TRIGGER:-P2D
ACTION:DISPLAY
DESCRIPTION:Go to Regioninė šeimų duetų šventė „Iš visos širdies“!
END:VALARM
END:VEVENT
END:VCALENDAR
