BEGIN:VCALENDAR
VERSION:2.0
PRODID:-//AllEvents.lt//NONSGML Event//EN
BEGIN:VEVENT
UID:123622@allevents.lt
DTSTAMP:20260425T150230Z
DTSTART:20260522T200000
DTEND:20260522T210000
SUMMARY:HIPERBAND | RUBIX - AllEvents.lt
DESCRIPTION:https://allevents.lt/koncertai/vasario-16-osios-g-48-siauliai/rubix-klubas/123622-koncertas-hiperband-rubix-vasario-16-osios-g-48-siauliai-2026-bilietai\n\n\n\n\n \n\n\n\nRUBIX Šiauliai\n\n \n\nRezervacijos: +370 69199223\n\n \n\nNe tik girdėk — būk čia!\n\n\n\n\n \n
LOCATION:Vasario 16-osios g. 48, Šiauliai, , Rubix klubas
BEGIN:VALARM
TRIGGER:-P2D
ACTION:DISPLAY
DESCRIPTION:Go to HIPERBAND | RUBIX!
END:VALARM
END:VEVENT
END:VCALENDAR
