BEGIN:VCALENDAR
VERSION:2.0
PRODID:-//AllEvents.lt//NONSGML Event//EN
BEGIN:VEVENT
UID:123623@allevents.lt
DTSTAMP:20260425T152259Z
DTSTART:20260523T200000
DTEND:20260523T210000
SUMMARY:GRUPĖ BELKANTO | RUBIX - AllEvents.lt
DESCRIPTION:https://allevents.lt/koncertai/vasario-16-osios-g-48-siauliai/rubix-klubas/123623-koncertas-grupe-belkanto-rubix-vasario-16-osios-g-48-siauliai-2026-bilietai\n\n\n\n\n\n\n\n\nGRUPĖ BELKANTO RUBIX'E \n\n \n\nGegužės 23 d. RUBIX'e - gyvo garso koncertas su grupe BELKANTO. Dainos, kurias žinot, atmosfera, kurioj norit likt. Ateikit su draugais, šoksit iki uždarymo.\n\n \n\n\n\nGyva muzika\n\n \n\nPažįstami hitai ir naujos dainos\n\n \n\nPilna šokių aikštelė\n\n \n\nGera nuotaika nuo pirmos akimirkos\n\n\n\n \n\nGegužės 23 d.\n\n \n\nRUBIX Šiauliai\n\n \n\nRezervacijos: +370 69199223\n\n \n\nStalai užsakinėkit iš anksto - vietos nelieka\n\n\n\n\n\n\n\n \n
LOCATION:Vasario 16-osios g. 48, Šiauliai, , Rubix klubas
BEGIN:VALARM
TRIGGER:-P2D
ACTION:DISPLAY
DESCRIPTION:Go to GRUPĖ BELKANTO | RUBIX!
END:VALARM
END:VEVENT
END:VCALENDAR
