BEGIN:VCALENDAR
VERSION:2.0
PRODID:-//AllEvents.lt//NONSGML Event//EN
BEGIN:VEVENT
UID:123624@allevents.lt
DTSTAMP:20260425T152304Z
DTSTART:20260529T180000
DTEND:20260529T190000
SUMMARY:SUMMER OPENER | RUBIX - AllEvents.lt
DESCRIPTION:https://allevents.lt/koncertai/vasario-16-osios-g-48-siauliai/rubix-klubas/123624-koncertas-summer-opener-rubix-vasario-16-osios-g-48-siauliai-2026-bilietai\n\n\n\n\n\n\nPULSEON EVENTS SUMMER OPENER \n\n \n\nPasiruošk geriausiam vasaros sezono atidarymui, kuris užkurs tavo vasarą nuo pirmos minutės \n\nTai nebus eilinis vakaras – tai bus vakaras, kurį prisiminsi dar ilgai ir norėsi pakartoti. \n\n \n\nTavęs laukia:\n\nScenoje – visiems gerai žinomas MORRE\n\nJo pasirodymas = emocija, energija ir banger’iai, kuriuos žinai mintinai\n\nUž pulto – DJ Grant\n\nNon-stop beats, kurie neleis sustoti iki pat pabaigos\n\n• Sprogdinanti atmosfera\n\n• Staigmenos viso vakaro metu\n\n• Naujos pažintys ir nepamirštami momentai\n\n \n\n \n\nVieta: Vasario 16-osios g. 48, Šiauliai, 76291 Šiaulių m. sav.\n\nBilietai: www.ticketmarket.lt\n\nVietų kiekis ribotas\n\nRenginys moksleiviams (14–19 m.)\n\n \n\nDaugiau:\n\nTikTok – pulseon_eventss\n\nIG – PulseOn Events\n\n \n\nFeel the vibe. Live the moment. \n\n\n\n\n\n \n
LOCATION:Vasario 16-osios g. 48, Šiauliai, , Rubix klubas
BEGIN:VALARM
TRIGGER:-P2D
ACTION:DISPLAY
DESCRIPTION:Go to SUMMER OPENER | RUBIX!
END:VALARM
END:VEVENT
END:VCALENDAR
