BEGIN:VCALENDAR
VERSION:2.0
PRODID:-//AllEvents.lt//NONSGML Event//EN
BEGIN:VEVENT
UID:123625@allevents.lt
DTSTAMP:20260425T150230Z
DTSTART:20260530T200000
DTEND:20260530T210000
SUMMARY:STEPONAS JANUŠKA | RUBIX - AllEvents.lt
DESCRIPTION:https://allevents.lt/koncertai/vasario-16-osios-g-48-siauliai/rubix-klubas/123625-koncertas-steponas-januska-rubix-vasario-16-osios-g-48-siauliai-2026-bilietai\n\n\n\n\n\n\n\n\n\n\nVAKARAS SU STEPONU JANUŠKA \n\n \n\nGegužės 30-oji RUBIX'e — ypatingas vakaras su Steponu Januška! Dainos, kurios liečia širdį ir sušildo kiekvieną klausytoją.\n\n \n\n\n\nTai vakaras, kai muzika kalba už mus. Gyvas garsas, šilta atmosfera ir kūriniai, kuriuos dainuosime kartu!\n\n \n\n\n\nScenoje: Steponas Januška\n\n \n\nGyvas garsas ir gera atmosfera\n\n \n\nPažįstami kūriniai\n\n \n\nVakaras, kurio nepamirši\n\n\n\n \n\nGegužės 30 d.\n\n \n\nRUBIX Šiauliai\n\n \n\nRezervacijos: +370 69199223\n\n \n\nMuzika, kuri lieka širdyje.\n\n\n\n\n\n\n\n\n\n \n
LOCATION:Vasario 16-osios g. 48, Šiauliai, , Rubix klubas
BEGIN:VALARM
TRIGGER:-P2D
ACTION:DISPLAY
DESCRIPTION:Go to STEPONAS JANUŠKA | RUBIX!
END:VALARM
END:VEVENT
END:VCALENDAR
