BEGIN:VCALENDAR
VERSION:2.0
PRODID:-//AllEvents.lt//NONSGML Event//EN
BEGIN:VEVENT
UID:123626@allevents.lt
DTSTAMP:20260425T151159Z
DTSTART:20260606T200000
DTEND:20260606T210000
SUMMARY:JUSTINAS LAPATINSKAS | RUBIX - AllEvents.lt
DESCRIPTION:https://allevents.lt/koncertai/vasario-16-osios-g-48-siauliai/rubix-klubas/123626-koncertas-justinas-lapatinskas-rubix-vasario-16-osios-g-48-siauliai-2026-bilietai\n\n\n\n\n\n\n\n\n\nJUSTINAS LAPATINSKAS RUBIX'e - VASAROS PRADŽIA \n\n \n\nBirželio 6-oji RUBIX'e - Justinas Lapatinskas su savo šilčiausiomis dainomis!\n\n \n\nTai vakaras, kai pop muzika susitinka su gyvu garsu ir visa salė dainuoja kartu. Gera muzika ir vasariška atmosfera - viskas, ko reikia tobulam vasaros vakarui.\n\n \n\nScenoje: Justinas Lapatinskas\n\n \n\nGyvas garsas ir vasariška atmosfera\n\n \n\nTobulas vasaros vakaro pradžia\n\n \n\nBirželio 6 d.\n\n \n\nRUBIX Šiauliai\n\n \n\nRezervacijos: +370 69199223\n\n \n\nVasara prasideda RUBIX'e. Būk čia\n\n\n\n\n\n\n\n\n \n
LOCATION:Vasario 16-osios g. 48, Šiauliai, , Rubix klubas
BEGIN:VALARM
TRIGGER:-P2D
ACTION:DISPLAY
DESCRIPTION:Go to JUSTINAS LAPATINSKAS | RUBIX!
END:VALARM
END:VEVENT
END:VCALENDAR
