BEGIN:VCALENDAR
VERSION:2.0
PRODID:-//AllEvents.lt//NONSGML Event//EN
BEGIN:VEVENT
UID:123628@allevents.lt
DTSTAMP:20260425T151154Z
DTSTART:20260501T180000
DTEND:20260501T190000
SUMMARY:FK Babrungas v Vilniaus BFA - AllEvents.lt
DESCRIPTION:https://allevents.lt/sportas/plunge/mendeno-g-7-dirbtines-dangos-stadionas/123628-sportas-fk-babrungas-v-vilniaus-bfa-plunge-2026-bilietai\n\n\n\n
LOCATION:Plungė, , Mendeno g. 7. Dirbtinės dangos stadionas
BEGIN:VALARM
TRIGGER:-P2D
ACTION:DISPLAY
DESCRIPTION:Go to FK Babrungas v Vilniaus BFA!
END:VALARM
END:VEVENT
END:VCALENDAR
