BEGIN:VCALENDAR
VERSION:2.0
PRODID:-//AllEvents.lt//NONSGML Event//EN
BEGIN:VEVENT
UID:123629@allevents.lt
DTSTAMP:20260425T151154Z
DTSTART:20260502T141500
DTEND:20260502T151500
SUMMARY:FA Šiauliai - Sūduva - AllEvents.lt
DESCRIPTION:https://allevents.lt/sportas/siauliai/siauliu-m-sav-stadionas/123629-sportas-fa-siauliai-suduva-siauliai-2026-bilietai\n\n
LOCATION:Šiauliai, , Šiaulių m. sav. stadionas
BEGIN:VALARM
TRIGGER:-P2D
ACTION:DISPLAY
DESCRIPTION:Go to FA Šiauliai - Sūduva!
END:VALARM
END:VEVENT
END:VCALENDAR
