BEGIN:VCALENDAR
VERSION:2.0
PRODID:-//AllEvents.lt//NONSGML Event//EN
BEGIN:VEVENT
UID:123630@allevents.lt
DTSTAMP:20260425T150151Z
DTSTART:20260508T190000
DTEND:20260508T200000
SUMMARY:FK Ekranas - K. Žalgiris B - AllEvents.lt
DESCRIPTION:https://allevents.lt/sportas/panevezys/panevezio-fa-stadionas/123630-sportas-fk-ekranas-k-zalgiris-b-panevezys-2026-bilietai\n\n
LOCATION:Panevėžys, , „Panevėžio“ FA stadionas
BEGIN:VALARM
TRIGGER:-P2D
ACTION:DISPLAY
DESCRIPTION:Go to FK Ekranas - K. Žalgiris B!
END:VALARM
END:VEVENT
END:VCALENDAR
