BEGIN:VCALENDAR
VERSION:2.0
PRODID:-//AllEvents.lt//NONSGML Event//EN
BEGIN:VEVENT
UID:123631@allevents.lt
DTSTAMP:20260425T150151Z
DTSTART:20260509T140000
DTEND:20260509T150000
SUMMARY:FK Minija - Dainava - AllEvents.lt
DESCRIPTION:https://allevents.lt/sportas/kretinga/kretingos-dirbtines-dangos-aikste/123631-sportas-fk-minija-dainava-kretinga-2026-bilietai\n\n\n\n
LOCATION:Kretinga, , Kretingos dirbtinės dangos aikštė
BEGIN:VALARM
TRIGGER:-P2D
ACTION:DISPLAY
DESCRIPTION:Go to FK Minija - Dainava!
END:VALARM
END:VEVENT
END:VCALENDAR
