BEGIN:VCALENDAR
VERSION:2.0
PRODID:-//AllEvents.lt//NONSGML Event//EN
BEGIN:VEVENT
UID:123632@allevents.lt
DTSTAMP:20260425T151154Z
DTSTART:20260509T141500
DTEND:20260509T151500
SUMMARY:FA Šiauliai - Hegelmann - AllEvents.lt
DESCRIPTION:https://allevents.lt/sportas/siauliai/siauliu-m-sav-stadionas/123632-sportas-fa-siauliai-hegelmann-siauliai-2026-bilietai\n\n
LOCATION:Šiauliai, , Šiaulių m. sav. stadionas
BEGIN:VALARM
TRIGGER:-P2D
ACTION:DISPLAY
DESCRIPTION:Go to FA Šiauliai - Hegelmann!
END:VALARM
END:VEVENT
END:VCALENDAR
