BEGIN:VCALENDAR
VERSION:2.0
PRODID:-//AllEvents.lt//NONSGML Event//EN
BEGIN:VEVENT
UID:123634@allevents.lt
DTSTAMP:20260425T150151Z
DTSTART:20260516T140000
DTEND:20260516T150000
SUMMARY:FK TAURAS - Jonava - AllEvents.lt
DESCRIPTION:https://allevents.lt/sportas/taurage/taurages-dirbtines-dangos-aikste/123634-sportas-fk-tauras-jonava-taurage-2026-bilietai\n\n
LOCATION:Tauragė, , Tauragės dirbtinės dangos aikštė
BEGIN:VALARM
TRIGGER:-P2D
ACTION:DISPLAY
DESCRIPTION:Go to FK TAURAS - Jonava!
END:VALARM
END:VEVENT
END:VCALENDAR
