BEGIN:VCALENDAR
VERSION:2.0
PRODID:-//AllEvents.lt//NONSGML Event//EN
BEGIN:VEVENT
UID:123635@allevents.lt
DTSTAMP:20260425T151154Z
DTSTART:20260522T190000
DTEND:20260522T200000
SUMMARY:FK Ekranas - TransINVEST B - AllEvents.lt
DESCRIPTION:https://allevents.lt/sportas/panevezys/panevezio-fa-stadionas/123635-sportas-fk-ekranas-transinvest-b-panevezys-2026-bilietai\n\n
LOCATION:Panevėžys, , „Panevėžio“ FA stadionas
BEGIN:VALARM
TRIGGER:-P2D
ACTION:DISPLAY
DESCRIPTION:Go to FK Ekranas - TransINVEST B!
END:VALARM
END:VEVENT
END:VCALENDAR
