BEGIN:VCALENDAR
VERSION:2.0
PRODID:-//AllEvents.lt//NONSGML Event//EN
BEGIN:VEVENT
UID:123637@allevents.lt
DTSTAMP:20260425T151200Z
DTSTART:20260529T180000
DTEND:20260529T190000
SUMMARY:FK Babrungas v FK Minija - AllEvents.lt
DESCRIPTION:https://allevents.lt/sportas/plunge/mendeno-g-7-dirbtines-dangos-stadionas/123637-sportas-fk-babrungas-v-fk-minija-plunge-2026-bilietai\n\n\n\n
LOCATION:Plungė, , Mendeno g. 7. Dirbtinės dangos stadionas
BEGIN:VALARM
TRIGGER:-P2D
ACTION:DISPLAY
DESCRIPTION:Go to FK Babrungas v FK Minija!
END:VALARM
END:VEVENT
END:VCALENDAR
