BEGIN:VCALENDAR
VERSION:2.0
PRODID:-//AllEvents.lt//NONSGML Event//EN
BEGIN:VEVENT
UID:123639@allevents.lt
DTSTAMP:20260425T151247Z
DTSTART:20260605T190000
DTEND:20260605T200000
SUMMARY:FK Ekranas - Neptūnas - AllEvents.lt
DESCRIPTION:https://allevents.lt/sportas/panevezys/panevezio-fa-stadionas/123639-sportas-fk-ekranas-neptunas-panevezys-2026-bilietai\n\n
LOCATION:Panevėžys, , „Panevėžio“ FA stadionas
BEGIN:VALARM
TRIGGER:-P2D
ACTION:DISPLAY
DESCRIPTION:Go to FK Ekranas - Neptūnas!
END:VALARM
END:VEVENT
END:VCALENDAR
