BEGIN:VCALENDAR
VERSION:2.0
PRODID:-//AllEvents.lt//NONSGML Event//EN
BEGIN:VEVENT
UID:123697@allevents.lt
DTSTAMP:20260425T151108Z
DTSTART:20260513T180000
DTEND:20260513T200000
SUMMARY:Pasivaikščiojimas po Vilnių su romano "Apolonija" autore Gina Viliūne - AllEvents.lt
DESCRIPTION:https://allevents.lt/kiti/vilnius/123697-pasivaiksciojimas-po-vilniu-su-romano-apolonija-autore-gina-viliune-vilnius-2026-bilietai\nRenginio aprašymasMeilė sukilimo metu. Pasivaikščiojimas po Vilnių su romano „Apolonija“ autore Gina ViliūnePasivaikščiojimas po miestą, menantį Apolonijos ir Zigmanto Sierakausko meilės ir 1863-ųjų sukilimo istoriją.Jiedu susitiko 1861 metų vasarą Vilniuje. Ji – dvidešimt trejų, graži ir geidžiama, tačiau svajojanti ne apie meilę, o apie tėvynės laisvę. Jis – Rusijos imperijos armijos kapitonas, trisdešimt penkerių, gyvenantis rengiamo sukilimo idėja. Trys trumpi susitikimai, šiek tiek laiškų – ir po metų atšoktos vestuvės. Likimas jiems skyrė vos devynis mėnesius bendro laimingo gyvenimo... Romano autorė, remdamasi savo knyga bei Apolonijos Dalevskytės-Sierakauskienės atsiminimais, papasakos apie dviejų ypatingų asmenybių pažintį ir meilę, išsiskleidusią skaudžių 1863-ųjų metų sukilimo fone. Pamatysite vietas, menančias įvykius, papildytas senomis nuotraukomis. Išgirsite, kokiomis nuotaikomis gyveno vilniečiai prieš sukilimą ir po jo. Sužinosite šios istorijos dalyvių likimus. Sukilimo istorija, papildyta asmeninėmis Apolonijos Dalevskytės ir Zigmanto Sierakausko istorijomis, atsiskleis naujomis spalvomis.Jaukus pasivaikščiojimas nedidelėje grupėje. Nueisime apie 2 km. Susitikimo vieta: Katedros aikštė. Prie varpinės.Durys atidaromos: ~13:00Renginio trukmė: ~2:00Pertraukos: nėraRenginio kalba: lietuviųVaikai įleidžiami nemokamai: vaikams iki 10 metų imtinaiAmžiaus cenzas: nėraNuolaidos: netaikomosNorėdami įsigyti 10 ir daugiau bilietų galite kreiptis vipklientai@bilietai.lt
LOCATION:Vilnius, Šventaragio g., Vilniaus Katedros aikštė
BEGIN:VALARM
TRIGGER:-P2D
ACTION:DISPLAY
DESCRIPTION:Go to Pasivaikščiojimas po Vilnių su romano "Apolonija" autore Gina Viliūne!
END:VALARM
END:VEVENT
END:VCALENDAR
