BEGIN:VCALENDAR
VERSION:2.0
PRODID:-//AllEvents.lt//NONSGML Event//EN
BEGIN:VEVENT
UID:123701@allevents.lt
DTSTAMP:20260425T150050Z
DTSTART:20260531T190000
DTEND:20260531T230000
SUMMARY:Sounds Good Vilnius | Lewis Capaldi - AllEvents.lt
DESCRIPTION:https://allevents.lt/koncertai/vilnius/kalnu-parkas/123701-koncertas-sounds-good-vilnius-lewis-capaldi-vilnius-2026-bilietai\n2026 m. gegužės 31 d. vyksiantis Lewis Capaldi koncertas tampa „Sounds Good Vilnius“ renginių serijos dalimi ir yra perkeliamas į Kalnų parką. Koncerto data ir laikas nesikeičia. Visi anksčiau įsigyti bilietai galioja naujoje vietoje, papildomai nieko daryti nereikia. Fanų zonos ir VIP bilietų privilegijos išlieka tokios pat. Stovimų bilietų pirkėjai galės rinktis tarp stovimos zonos arba sėdimų vietų amfiteatre (atkreipkite dėmesį, kad amfiteatro vietos yra nenumeruotos). Jeigu norėtumėte grąžinti bilietus, tai galite padaryti užpildydami grąžinimo formą iki 2026 m. gegužės 7 d. Daugiau informacijos ir grąžinimo formą rasite ČIA. Atsiprašome už galimus nepatogumus ir dėkojame už supratingumą. Laukiame jūsų Lewis Capaldi koncerte Kalnų parke gegužės 31 d.! Gegužės 31‑ąją Vilniuje, Kalnų parke, koncertą surengs vienas populiariausių šiandienos dainininkų Lewis Capaldi. Tai bus vienintelis megahitų „Someone You Loved“, „Before You Go“, „Survive“ ir „Forget Me“ atlikėjo pasirodymas Baltijos šalyse. Talentingo dainininko ir jausmingų kūrinių autoriaus gerbėjai gali tikėtis gyvai išgirsti ir milijonus širdžių užkariavusius Lewis Capaldi hitus „Bruises“, „Grace“, „Pointless“, „Hold Me While You Wait“ ar „Wish You the Best“. Po dvejų metų pertraukos, kurią skyrė savo sveikatos gerinimui, Lewis Capaldi grįžo į sceną su nauja aistra. Akivaizdu, jog dainininko ir jo muzikos stipriai pasiilgo ir jo gerbėjai – dauguma paskelbtų Lewis Capaldi koncertų jau yra pilnai išparduoti, tarp jų – ir pasirodymas Niujorko „Madison Square Garden“, kuris buvo išparduotas per mažiau nei minutę, ir Londono „Hyde Park“, kur teko skelbti papildomą koncertą.Pasaulis apie Lewiso Capaldi – škotų ir italų kilmės kompozitoriaus, muzikanto ir atlikėjo – talentą pirmą kartą sužinojo 2017 m., kai jo kūrinys „Bruises“ „Spotify“ platformoje per itin trumpą laiką buvo perklausytas beveik 28 milijonus kartų, o Capaldi tapo greičiausiai 25 milijonų perklausų ribą peržengusiu nepriklausomu atlikėju platformos istorijoje. Tačiau viso to galėjo ir nebūti – Lewiso tėvas buvo pasidaręs vazektomiją, tad berniuko gimimas buvo tikras stebuklas. Dar ankstyvoje vaikystėje susidomėjęs muzika, būdamas 9-erių Lewis išmoko groti gitara, o sulaukęs vos dvylikos jau koncertuodavo užeigose ir kūrė savo pirmąsias originalias dainas. Po stulbinančios dainos „Bruises“ sėkmės, Lewis Capaldi netruko pasirašyti sutartį su leidybine kompanija ir kaip raketa šovė į popmuzikos viršūnę – jis tapo pirmuoju atlikėju, išpardavusiu koncertinį turą arenose dar prieš išleisdamas savo pilną debiutinį albumą „Divinely Uninspired to a Hellish Extent“. Turo bilietai bilietai buvo iššluoti per kelias minutes, o šis istorinis pasiekimas buvo įtrauktas į Gineso rekordų knygą.  Nėra abejonių, prie pasaulinės Lewis Capaldi šlovės itin stipriai prisidėjo svarbiausias jo pirmojo pilno studijinio albumo singlas „Someone You Loved“. Kūrinys, patekęs į 29 šalių muzikos topus, Jungtinėje Karalystėje išliko pirmoje topų vietoje net septynias savaites, tapo perkamiausiu 2019 m. britų singlu ir pateko į „Billboard Hot 100“ ir „Canadian Hot 100“ sąrašus, įtvirtindamas Lewiso talentą abiejose Atlanto pusėse. „Divinely Uninspired to a Hellish Extent“ tapo perkamiausiu 2019 ir 2020 m. albumu JK ir Airijoje.Antrasis studijinis Capaldi albumas „Broken by Desire to Be Heavenly Sent“ (2023), kuriame – tokie singlai kaip „Forget Me“, „Pointless“ ir „Wish You the Best“, tapo greičiausiai parduodamu albumu Jungtinėje Karalystėje. Paklaustas kur sėmėsi įkvėpimo, Lewis Capaldi su jam būdingu humoru sakė: „Išeidavau į pasaulį, pasižiūrėdavau, kas jame blogai ir apie tai rašydavau dainas.“2023-iaisiais Capaldi paskelbė laikinai pasitraukiantis iš viešojo gyvenimo ir norintis skirti daugiau dėmesio savo emocinei ir fizinei sveikatai (atlikėjui diagnozuotas Tureto sindromas). Pertrauka muzikantui išėjo į naudą – po dvejų metų, 2025-aisiais, Lewis Capaldi grįžo su triumfu: publika entuziastingai reagavo į jo pasirodymą Glastonberio festivalio scenoje ir lapkritį išleistą naują EP „Survive“. Pagrindinis albumo singlas „Survive“, kuriame Capaldi atvirai pasakoja apie savo sugrįžimą ir pasiryžimą tęsti pradėtą kelią nepaisant sunkumų, tapo šeštuoju jo singlu, pakilusių į 1-ąją JK topų vietą. Lewiso Capaldi apdovanojimų ir nominacijų sąraše – „Grammy“, „Brit Awards“, „Scottish Music Awards“, „Q Awards“, „MTV Music Awards“ ir daugybė kitų, patvirtinančių, kad jis yra vienas kritikų ir klausytojų labiausiai vertinamų savo kartos atlikėjų.Tačiau tikriausias Lewiso Capaldi talento ir asmenybės įrodymas – jo koncertai. Capaldi dainuoja visa širdimi, taip įtaigiai, kad nekyla abejonių dėl jo emocijų tikrumo, savo pasirodymus nuolat papildymas atvira saviironija. Nenuostabu, kad milijonai gerbėjų visame pasaulyje vertina jo išskirtinę asmenybę. Sėkmingai koncertavęs pilnutėlėse arenose ir svarbiausiuose festivaliuose, praeityje apšildęs tokias muzikos žvaigždes kaip Edas Sheeranas ar Samas Smithas, dabar Lewis Capaldi leidžiasi į ambicingiausią savo karjeros turą, kurio vienintelė stotelė Baltijos šalyse – Vilniuje. Capaldi pasirodymas Lietuvoje – renginių serijos „Sounds Good Vilnius“ dalis.Daugiau informacijos:https://www.lewiscapaldi.comhttps://www.facebook.com/LTipsAgencyLithuaniaVaizdo klipai:Someone You Loved – https://www.youtube.com/watch?v=zABLecsR5UEBefore You Go – https://www.youtube.com/watch?v=Jtauh8GcxBYSurvive – https://www.youtube.com/watch?v=W02YdpPWayA DĖMESIO! Stovimi bilietai yra skirtingų kainų, aukštesnė kaina nesuteikia daugiau privilegijų. Rinkitės pigesnius bilietus, kol jų yra. Naudoti koncerto pavadinimą ir/ar bilietus konkursams, loterijoms bei kitai komercinei veiklai be raštiško koncerto organizatoriaus leidimo draudžiama! Durys atidaromos: 18:00Renginio trukmė: ~ 4:00Pertraukos: nėraRenginio kalba: anglųVaikai įleidžiami nemokamai: iki 5 m. imtinai, neužimant papildomos sėdimos vietos.Amžiaus cenzas: nėraNuolaidos: netaikomos VIP bilietas:– stovima tribūna su stogu,– atskiras įėjimas į renginio teritoriją,– atskiri WC,– atskiras baras,– pasitikimo gėrimas. Bilietų pirkimas asmenims su negalia vežimėlyje. Vesti kodą "vežimėlis" ir pasirinkti bilietą atskirame sektoriuje Neįgaliesiems vežimėlyje.Asmenį su negalia vežimėlyje lydintis asmeninis asistentas į renginį įleidžiamas nemokamai, pateikus pažymėjimą. Perkant 10 ir daugiau bilietų galite kreiptis: vipklientai@bilietai.lt Atkreipkite dėmesį, kad renginio metu organizatoriai, atlikėjas (-ai) arba jų įgalioti atstovai gali filmuoti ir fotografuoti.Įsigijęs bilietą ir (arba) dalyvaudamas renginyje, dalyvis sutinka, kad jis gali būti fotografuojamas ir (arba) filmuojamas, o jo atvaizdas gali būti naudojamas viešai įvairiose žiniasklaidos priemonėse, įskaitant reklamos tikslais, be jokio atlygio.Visos teisės į vaizdo medžiagą priklauso renginio organizatoriui arba jo įgaliotoms trečiosioms šalims.Atkreipkite dėmesį, kad renginio metu gali būti naudojami garsūs garso efektai, taip pat ryškūs, mirksintys ar kitokio tipo apšvietimo efektai. Įsigijęs bilietą, dalyvis prisiima visą atsakomybę už bet kokį šių priemonių poveikį jo sveikatai.
LOCATION:Vilnius, Kalnų parkas, T. Kosciuškos g., Kalnų parkas
BEGIN:VALARM
TRIGGER:-P2D
ACTION:DISPLAY
DESCRIPTION:Go to Sounds Good Vilnius | Lewis Capaldi!
END:VALARM
END:VEVENT
END:VCALENDAR
