BEGIN:VCALENDAR
VERSION:2.0
PRODID:-//AllEvents.lt//NONSGML Event//EN
BEGIN:VEVENT
UID:123707@allevents.lt
DTSTAMP:20260425T150230Z
DTSTART:20260905T200000
DTEND:20260905T220000
SUMMARY:Vytauto Kernagio Kodeksas su Simfoniniu Orkestru - AllEvents.lt
DESCRIPTION:https://allevents.lt/koncertai/kaunas/123707-koncertas-vytauto-kernagio-kodeksas-su-simfoniniu-orkestru-kaunas-2026-bilietai\n  „Vytauto Kernagio kodeksas“ sugrįžta su simfoniniu orkestruRugsejo 5-ąją į Kauno Dainų slėnį vienam vakarui sugrįžta „Vytauto Kernagio kodeksas“, šįkart – praturtintas simfoniniu orkestru. Didelio publikos susidomėjimo sulaukęs projektas atgimsta nauju formatu – po atviru dangumi ir su dar platesniu muzikiniu skambesiu. Šįkart klausytojai galės išgirsti ne tik visų mylimas dainas, bet ir jų naujas, simfonines interpretacijas. Scenoje pasirodys: Jokūbas Bareikis, Jurga Šeduikytė, Lina Rastokaitė, Rafailas Karpis, Gabrielius Liaudanskas-Svaras, Linas Adomaitis bei Kauno vokalinis ansamblis „Acusto“.Simfonines aranžuotes kūrė Jievaras JasinskisDirigentas – Paulius LygnugarisChoro “Acusto” meno vadovas - Kęstutis JakeliūnasVienas vakaras. Viena scena. Ir muzika, kuri išlieka.Durys atidaromos: ~19:00Renginio trukmė: ~2 val.Pertraukos: nėraRenginio kalba: lietuviųVaikai įleidžiami nemokamai: neįleidžiamiAmžiaus cenzas: nėraNuolaidos: netaikomosNorėdami įsigyti 10 ir daugiau bilietų galite kreiptis vipklientai@bilietai.lt
LOCATION:Kaunas, Tunelio g. 37, Kauno Dainų slėnis
BEGIN:VALARM
TRIGGER:-P2D
ACTION:DISPLAY
DESCRIPTION:Go to Vytauto Kernagio Kodeksas su Simfoniniu Orkestru!
END:VALARM
END:VEVENT
END:VCALENDAR
