BEGIN:VCALENDAR
VERSION:2.0
PRODID:-//AllEvents.lt//NONSGML Event//EN
BEGIN:VEVENT
UID:123708@allevents.lt
DTSTAMP:20260425T151159Z
DTSTART:20260509T110000
DTEND:20260509T120000
SUMMARY:Ekskursija "Religinės audros Vilniuje: katalikai ir protestantai sostinėje" - AllEvents.lt
DESCRIPTION:https://allevents.lt/parodos/vilnius/katedros-varpine/123708-parodos-ekskursija-religines-audros-vilniuje-katalikai-ir-protestantai-sostineje-vilnius-2026-bilietai\n\n1517 m. Vitenbergo teologijos profesorius ir vienuolis Martynas Liuteris paskelbė 95 tezes, kurias nusiuntė arkivyskupui į Maincą. O kaip sekėsi Reformacijos pasekėjams Vilniuje? Aptarsime ekskursijos metu.Vilnius pasižymėjo kaip multikutūrinis, daugiakonfesinis miestas. Bet ar toms konfesijoms buvo smagu gyventi kartu? Nelabai. Būta visokių kontaktų ir konfliktų. Tų kovų pėdsakų ir ženklų paieškokime Vilniuje. Ekskursijos metu sužinosime:Kas negerai su VU bibliotekos durimis?Kur stovėjo pirmoji reformatų bažnyčia ir kodėl jos ten nebeliko?Kur buvo pati tikroji evangelikų citadelė - vieta kur veikė spaustuvė ir karitatyvinės įstaigos?Kur yra seniausias paminklas Vilniuje? Kokia Šventojo Rašto eilutės nuoroda yra iškalta ant jo?Kur skambėjo pirmieji reformatoriški pamokslai Vilniuje?Ką apie Romos katalikų Šv. Kazimiero bažnyčią turėtų žinoti kiekvienas protestantas?Ekskursijos pradžia: 11 val. prie Katedros varpinėsPabaiga: apie 13 val. Vokiečių gatvėje. Atstumas: apie 2,7 kmVaikams iki 12 metų - nemokamai.\n
LOCATION:Vilnius, a. 2, Katedros varpinė
BEGIN:VALARM
TRIGGER:-P2D
ACTION:DISPLAY
DESCRIPTION:Go to Ekskursija "Religinės audros Vilniuje: katalikai ir protestantai sostinėje"!
END:VALARM
END:VEVENT
END:VCALENDAR
