BEGIN:VCALENDAR
VERSION:2.0
PRODID:-//AllEvents.lt//NONSGML Event//EN
BEGIN:VEVENT
UID:123710@allevents.lt
DTSTAMP:20260425T150141Z
DTSTART:20260516T120000
DTEND:20260516T130000
SUMMARY:PAPILDOMAS LAIKAS! Interaktyvus šokio teatro Dansema spektaklis "Miškas" 6-18 mėn. - AllEvents.lt
DESCRIPTION:https://allevents.lt/teatras/kaunas/mukkoka-namai/123710-teatras-papildomas-laikas-interaktyvus-sokio-teatro-dansema-spektaklis-miskas-6-18-men-kaunas-2026-bilietai\n\n Miškas – tai paslaptinga vieta, pilna netikėtų susitikimų su pažįstamais ir nepažįstamais augalais ar miško gyventojais, kurie medžių lapų mirgėjimo šviesoje gali virsti keistomis būtybėmis, kviečiančiomis mažylius naujiems nuotykiams ir atradimams. Tai interaktyvus spektaklis, tad mažieji žiūrovai iki 18 mėn. kviečiami įsijungti į veiksmą pagal poreikį. Jei į spektaklį ateina ir vyresnieji broliai ar sesės, prašome suaugusiųjų paaiškinti, kad jiems teks palaukti spektaklio pabaigos, kad patyrinėtų spektaklio erdvę.Idėjos autorė ir choreografė Birutė BanevičiūtėChoreografijos bendraautorės ir šokėjos Raimonda Gudavičiūtė, Verena Kutschera / Giedrė Subotinaitė, Indrė BacevičiūtėDailininkė Medilė ŠiaulytytėKompozitorius Tobias HagedornTrukmė 40 min.Rėmėjai: Lietuvos kultūros taryba, Vilniaus savivaldybė, Kulturamt Frankfurt am Main, Gallus theater, Z-ZentrumPartneriai: Menų spaustuvė, Kauno kultūros centras, Kauno kamerinis teatrasBilietų kiekis labai ribotas.Bilieto reikia ir vaikui ir suaugusiam.\n
LOCATION:Kaunas, Baltijos Gatvė 90A, Mukkoka namai
BEGIN:VALARM
TRIGGER:-P2D
ACTION:DISPLAY
DESCRIPTION:Go to PAPILDOMAS LAIKAS! Interaktyvus šokio teatro Dansema spektaklis "Miškas" 6-18 mėn.!
END:VALARM
END:VEVENT
END:VCALENDAR
