BEGIN:VCALENDAR
VERSION:2.0
PRODID:-//AllEvents.lt//NONSGML Event//EN
BEGIN:VEVENT
UID:123711@allevents.lt
DTSTAMP:20260425T150152Z
DTSTART:20260501T183000
DTEND:20260501T193000
SUMMARY:Čüčia Lülia - AllEvents.lt
DESCRIPTION:https://allevents.lt/koncertai/klaipeda/hofas/123711-koncertas-c-cia-l-lia-klaipeda-2026-bilietai\n\n Šiltus orus pasitinkam bet kur, tik ne namie. Gegužės pradžia – momentas, kai viskas tik prasideda. Susitinkam ten, kur svarbiausia - muzika ir žmonės. Čüčia Lülia - tai muzikinis renginys Klaipėdoje, suburiantis vietinius muzikantus, didžėjus ir muzikos mėgėjus po vienu stogu. Mūsų tikslas - puoselėti autentišką Klaipėdos muzikos sceną ir suteikti vietos talentams galimybę pasireikšti. Vakarą atidarys grupė Ministerija, vėliau erdvę perims DJ’s lineup:• Agroo• Praneliss• ”DJ”• MarixKlaipėda, HOFAS05 - 01 || 18:30N-16\n
LOCATION:Klaipėda, Danės g. 8, Hofas
BEGIN:VALARM
TRIGGER:-P2D
ACTION:DISPLAY
DESCRIPTION:Go to Čüčia Lülia!
END:VALARM
END:VEVENT
END:VCALENDAR
