BEGIN:VCALENDAR
VERSION:2.0
PRODID:-//AllEvents.lt//NONSGML Event//EN
BEGIN:VEVENT
UID:123713@allevents.lt
DTSTAMP:20260425T150141Z
DTSTART:20260522T235900
DTEND:20260523T005900
SUMMARY:red room x Circus Operandi :: Rey Colino // 05.22 - AllEvents.lt
DESCRIPTION:https://allevents.lt/koncertai/vilnius/gallery-1986/123713-koncertas-red-room-x-circus-operandi-rey-colino-05-22-vilnius-2026-bilietai\n\n}} šįkart red room laukia neeilinis ::: po netrumpos pertraukos į klubą su savo dedikuota naktimi grįžta Donatas Chipak ir Titas Tumosa aka Circus Operandi ^^}} proga ––– daugiau nei rimta: dienos šviesą išvydo keturių kūrinių (beje, aikštelėse jau patikrintų) rinkinys, simboliškai pavadintas tiesiog EP ir išleistas Customs and Faces, už kurio stovi Ivan Smagghe ir Niv Arzi iš Red Axes ^^ EP platinimas patikėtas Amsterdamo distributoriui One Eye Witness, kas savaime buvo puikus šansas į svečius pasikviesti jo varomąją jėgą Rey Colino ^^}} pernai Audroje jau viešėjusio olando selekcija – gyva ir organiška :: čia peak-timeriai susilieja su abstraktesniais, horizontaliais pasažais, garsas juda nenuspėjama kryptim, o žanrų ribos neretai išvis nepaisomos ^^::::::::::::REY COLINOCIRCUS OPERANDITRIPPSY::::::::::::^ N19^ bilietai nekeičiami ir negrąžinami^ turėk asmens dokumentą^ klubas pasilieka teisę nepakviesti užeiti be papildomo paaiškinimo^ take care && have fun\n
LOCATION:Vilnius, Kauno g. 32, Gallery 1986
BEGIN:VALARM
TRIGGER:-P2D
ACTION:DISPLAY
DESCRIPTION:Go to red room x Circus Operandi :: Rey Colino // 05.22!
END:VALARM
END:VEVENT
END:VCALENDAR
