BEGIN:VCALENDAR
VERSION:2.0
PRODID:-//AllEvents.lt//NONSGML Event//EN
BEGIN:VEVENT
UID:123714@allevents.lt
DTSTAMP:20260425T150152Z
DTSTART:20260612T210000
DTEND:20260612T220000
SUMMARY:HexaPryzm Presents: Degeneration 3 - AllEvents.lt
DESCRIPTION:https://allevents.lt/koncertai/klaipeda/123714-koncertas-hexapryzm-presents-degeneration-3-klaipeda-2026-bilietai\n\nDescription in Lithuanian below  EN  After another long rest... Internet kids and anime lovers! We go back a generation to the late 2000s and early 2010s for the third time! Recreating the same feelings as launching your favorite console game as a kid or blasting fast, high-pitched music on your family's desktop speakers while surfing the web! ----------------------------------------------------------------------------------- As always, expect a night filled with: Colorful lights, nostalgic and interactive decorations Nightcore, HexD, Sextrance, Breakcore, Tekkno, Frenchcore, Speedcore, and other internet genres we grew up with and still love, accompanied by a special guest and the best local artists Tekken 5 tournaments, hookah stations, affordable mini shops, and hidden gifts to make your night memorable Small rewards for attending with a cool outfit And of course, a warm community of ravers, geeks, anime lovers, and cosplayers ---------------------------------------------------------------------------------- So put on your best Gyaru outfit, favorite character cosplay, or really anything you'd like to make the place colorful, and let's meet on the dancefloor! ___________________________________________________________________________________  Line-Up:  rl1805 [UNDER.NET] (EE) hentairavegod [HexaPryzm] Echia B2B Spimk [HexaPryzm] M1dlet [Emphobia, AMMO, SKRD, Bounce Back Records, Footworxx] Aciditrisann :LIVE: [HexaPryzm] Skitchy [HexaPryzm] VilkaMini [HexaPryzm] _________________________________________________________  Activities: Retro Console Station & Tekken 5 TournamentLight Toy StationHookah Station by @_grynas  TBA  _________________________________________________________   Decorations and more by @_kunigas Filmed by @alanasmhdPhoto by @ltuedgapro ___________________________________________________________________________________  Location: Malūno Loftas (Gluosnių skg. 2a-k1, Klaipėda) __________________________________________ PRE-SALE TICKETS LINK SOON  Early-Bird Tickets (First 30)- 10€Standard Pre-Sale Tickets- 13,5€At-Door tickets- 15€+ ENTRY IS 18+!!!!!!!!__________________________________________  -Buying a pre-sale ticket does not give you the right to enter, since event planners, staff, and security keep the right to refuse entry or kick out unwanted, inadequate, or aggressive individuals without any further explanation -Any form of sexism, racism, or homophobia WILL NOT be tolerated. Treat others with love and respect and you'll be treated with love and respect back. -Respect the club and its property. If you break anything, it will be your responsibility to compensate the damages -It is prohibited to bring guns, alcohol, drugs, or any other illegal substances  """""""""""""""""""""""""""""""""""""""""""""""""""""""""""""""""""""""""""""""""""  LT  Po dar vieno ilgo miego... Internetiniai vaikai ir anime mylėtojai! Grįžtam į vėlesnius 2000'uosius ir ankstyvus 2010'uosius jau trečią kartą! Atkurdami tuos pačius jausmus, kuriuos sukeldavo pasijungus savo mėgstamiausią konsolės žaidimą, ar taškant greitą, aukšto tembro muziką per savo šeimyninio kompiuterio stalinių kolonėlių! ----------------------------------------------------------------------------------- Kaip visad, tikėkitės nakties su: Spalvingomis šviesomis ir interaktyviomis dekoracijomis Nightcore, HexD, Sextrance, Breakcore, Tekkno, Frenchcore, Speedcore ir kiti žanrai, su kuriais užaugome ir iki šiol mylime, su specialaus svečio ir geriausių vietinių atlikėjų palaikymu Tekken 5 varžybos, kaljanų stotelės, įperkamos mini parduotuvės, vakarui įsiminti ir įamžinti- paslėptos dovanos Smulkios dovanos kiečiausiems outfit'ams Ir žinoma, šilta reiverių, geek'ų, anime mėgėjų ir kitų unikalių žmonių bendruomenė ---------------------------------------------------------------------------------- Tad užsidėk savo geriausią Gyaru kostiumą, mėgstamiausio veikėjo cosplay, kitų spalvingų rūbų ir susimatome šokių aikštelėje! ___________________________________________________________________________________   Line-Up:   rl1805 [UNDER.NET] (EE)  hentairavegod [HexaPryzm]  Echia B2B Spimk [HexaPryzm]  M1dlet [Emphobia, AMMO, SKRD, Bounce Back Records, Footworxx]  Aciditrisann :LIVE: [HexaPryzm]  Skitchy [HexaPryzm]  VilkaMini [HexaPryzm]   _________________________________________________________  Veiklos: Retro Konsolių Stotelė & Tekken 5 VaržybosŠviesos Žaislų StotelėHookah Stotelė by @_grynas  TBA  _________________________________________________________ Dekoracijos ir daugiau by @_kunigas Filmuojama by @alanasmhdFoto by @ltuedgapro ___________________________________________________________________________________  Lokacija: Malūno Loftas (Gluosnių skg. 2a-k1, Klaipėda) __________________________________________ IŠANKSTINIŲ BILIETŲ NUORODA GREITAI  Early-Bird Bilietai (First 30)- 10€Standartiniai Išankstiniai Bilietai- 13,5€Bilietai Prie Durų- 15€+ Įėjimas 18+!!!!!!!!__________________________________________  -Išankstinio bilieto nusipirkimas negarantuoja įėjimo, kadangi renginio organizatoriai, apsauga bei personalas pasilieka teisę nepriimti arba išvyti nepageidaujamus, neadekvačius ir agresyvius asmenis be papildomo pasiaiškinimo -Betkokia seksizmo, rasizmo ir homofobijos forma NEBUS TOLERUOJAMA. Gerbk bei mylėk kitus ir kiti gerbs bei mylės tave atgal. -Gerbt klubą ir jo inventorių. Padaryta žala bus kompensuojama jūsų pačių -Draudžiama į renginį neštis ginklus, alkoholį, narkotines ir kitas draudžiamas medžiagas \n
LOCATION:Klaipėda, Gluosnių skersgatvis, Malūno Loftas
BEGIN:VALARM
TRIGGER:-P2D
ACTION:DISPLAY
DESCRIPTION:Go to HexaPryzm Presents: Degeneration 3!
END:VALARM
END:VEVENT
END:VCALENDAR
