BEGIN:VCALENDAR
VERSION:2.0
PRODID:-//AllEvents.lt//NONSGML Event//EN
BEGIN:VEVENT
UID:123723@allevents.lt
DTSTAMP:20260425T152142Z
DTSTART:20260507T190000
DTEND:20260507T200000
SUMMARY:Teatro komedija "Naujas gyvenimas" - AllEvents.lt
DESCRIPTION:https://allevents.lt/teatras/utena/utenos-kulturos-centras/123723-teatras-teatro-komedija-naujas-gyvenimas-utena-2026-bilietai\n\n\nNaujas  gyvenimas\n\nAurimas (Arnas Ašmonas) ir Viktorija (Milda Noreikaitė) penkerius metus gyvena mamos bute. Ramu, patogu, nieko naujo… iki vieno ryto, kai viskas apsiverčia aukštyn kojomis.\n\nMama (Emilija Latėnaitė) staiga išvyksta, palikdama „dovaną“.\n\nViktorija parsineša „naują gyvenimą“.\n\nIr dar kažkas, pasirodo, turi raktus nuo jų buto.\n\nDurys darinėjasi, sprendimai priimami be Aurimo, emocijos verda, o jis lieka su vienu klausimu:\n\nkiek žmonių gali tilpti tavo gyvenime, kol iš jo iškrisi pats?\n\nKai mama sugrįžta, situacija tampa tokia absurdiška, kad belieka juoktis — ir juoktis bus iš ko.\n\n„Naujas gyvenimas“ – komedija apie meilę, rutiną ir sprendimus, kurių niekas neprašė.\n\nKas vyksta už uždarų durų?\n\nAtsakymai — tik teatre. \n\n \n\nScenarijaus autorius ir režisierius: Balys Latėnas.\n\nVaidina: Arnas Ašmonas, Milda Noreikaitė, Emilija Latėnaitė bei Vaidas Baumila.\n\nProdiusuoja: Mindaugas Papinigis, Žilvinas Stankevičius.\n
LOCATION:Utena, Aušros g. 49, Utenos kultūros centras
BEGIN:VALARM
TRIGGER:-P2D
ACTION:DISPLAY
DESCRIPTION:Go to Teatro komedija "Naujas gyvenimas"!
END:VALARM
END:VEVENT
END:VCALENDAR
