BEGIN:VCALENDAR
VERSION:2.0
PRODID:-//AllEvents.lt//NONSGML Event//EN
BEGIN:VEVENT
UID:123724@allevents.lt
DTSTAMP:20260425T150152Z
DTSTART:20260517T120000
DTEND:20260517T130000
SUMMARY:Vaikiškas muzikinis spektaklis "Voro galybė" - AllEvents.lt
DESCRIPTION:https://allevents.lt/teatras/telsiai/telsiu-kulturos-centras/123724-teatras-vaikiskas-muzikinis-spektaklis-voro-galybe-telsiai-2026-bilietai\n\n\nAr kada esi sutikęs vorą? Turbūt taip....\n\nTelšių Žemaitės dramos teatras, visus mažuosius žiūrovus, mamytes, tėvelius ir netgi senelius, kviečia nukeliauti į Voro karalystę, kurioje gyvena didžiausias, galingiausias, pikčiausias ir baisiausias Voras ir jo Čiuptuvas.  Karalystėje apsilanko nelauktas svečias -  mergaitė, kurią Voras ir Čiuptuvas, supančioja tinkluose.\n\nIlgėdamasi namų mergaitė prižadiną šikšnosparnį, kuris leidžiasi į kelionę, norėdamas išlaisvinti ją.\n\nAr Šikšnosparnis suras pagalbą ir išlaisvins mergaitę? Ar Voras išties toks galingas ir baisus? Pamatysite vaikiškame muzikiniame spektaklyje „Voro galybė“, pagal V. Kupšio pjesę.\n\nRežisierius - Donatas Žilinskas\n\nDailininkė – Giedrė Slavinskienė\n\nGarso režisierius – Mindaugas Drimba\n\nŠviesų dailininkas – Sergej Simonenko\n\nScenos ir dekoracijų technikas – Alvingas Teniukas\n\n \n\nVaidina: Monika Vaurė/Ieva Veselytė, Margarita Bladženauskaitė, Aistė Korkadinovaitė – Šiaudkulienė, Donatas Žilinskas\n\n \n\nSpektaklio trukmė: 40 min.\n
LOCATION:Telšiai, Respublikos g. 18,, Telšių kultūros centras
BEGIN:VALARM
TRIGGER:-P2D
ACTION:DISPLAY
DESCRIPTION:Go to Vaikiškas muzikinis spektaklis "Voro galybė"!
END:VALARM
END:VEVENT
END:VCALENDAR
