BEGIN:VCALENDAR
VERSION:2.0
PRODID:-//AllEvents.lt//NONSGML Event//EN
BEGIN:VEVENT
UID:123725@allevents.lt
DTSTAMP:20260425T150141Z
DTSTART:20260517T130000
DTEND:20260517T140000
SUMMARY:Mėgėjų teatrų šventė „Teatras mus vienija“ - AllEvents.lt
DESCRIPTION:https://allevents.lt/teatras/luksiai/sakiu-kulturos-centro-luksiu-padalinys/123725-teatras-megeju-teatru-svente-teatras-mus-vienija-luksiai-2026-bilietai\n\n\n\nGegužės 17 d. 13 val. kviečiame į mėgėjų teatrų šventę „Teatras mus vienija“ Lukšių kultūros namuose!\n\nRenginio programoje:\n\nPaluobių kaimo bendruomenės teatras PAGIRYS\nSpektaklis „Nei velnias, nei gegutė“\nRežisierė Aida Mozūraitienė\n\nJurbarko kultūros centro Girdžių skyriaus klojimo teatras MITUVIS\nTragikomedija „Neskaityti laiškai“\nAutorė ir režisierė Loreta Zdanavičienė\n\nKauno r. Akademijos TAU teatro trupė\nSpektaklis „Šeši patiekalai iš vienos vištos“\nRežisierė Ina Valiukevičienė\n\n\n \n\nKviečiame nepraleisti ir atvykti patirti skirtingas teatro istorijas bei pasidžiaugti vienijančia teatro galia.\n
LOCATION:Lukšiai, , Šakių kultūros centro Lukšių padalinys
BEGIN:VALARM
TRIGGER:-P2D
ACTION:DISPLAY
DESCRIPTION:Go to Mėgėjų teatrų šventė „Teatras mus vienija“!
END:VALARM
END:VEVENT
END:VCALENDAR
