BEGIN:VCALENDAR
VERSION:2.0
PRODID:-//AllEvents.lt//NONSGML Event//EN
BEGIN:VEVENT
UID:123726@allevents.lt
DTSTAMP:20260425T152202Z
DTSTART:20260521T180000
DTEND:20260521T190000
SUMMARY:Tragikomedija „Frustracija“ - AllEvents.lt
DESCRIPTION:https://allevents.lt/teatras/mazeikiai/mazeikiu-kulturos-centro-mazoji-sale/123726-teatras-tragikomedija-frustracija-mazeikiai-2026-bilietai\n\n\nMėgėjų teatro trupė „VISAVI“ kviečia į tragikomediją „Frustracija“, režisierė – Daiva Gedvilienė.\n\n \n\nFRUSTRACIJA, tragikomedija ir vienatvė.\n\n \n\nBūdamas VIENAS tu tikrai nesi VIENIŠAS,\n\n \n\nMINIOJE žmonių saugok savąją VIENATVĘ...\n
LOCATION:Mažeikiai, , Mažeikių kultūros centro Mažoji salė
BEGIN:VALARM
TRIGGER:-P2D
ACTION:DISPLAY
DESCRIPTION:Go to Tragikomedija „Frustracija“!
END:VALARM
END:VEVENT
END:VCALENDAR
