BEGIN:VCALENDAR
VERSION:2.0
PRODID:-//AllEvents.lt//NONSGML Event//EN
BEGIN:VEVENT
UID:123728@allevents.lt
DTSTAMP:20260425T150050Z
DTSTART:20261125T180000
DTEND:20261125T190000
SUMMARY:Vilniaus tango teatras - Tango Instinktas - AllEvents.lt
DESCRIPTION:https://allevents.lt/teatras/jonava/jonavos-kulturos-centras/123728-teatras-vilniaus-tango-teatras-tango-instinktas-jonava-2026-bilietai\n\n\nTango instinktas - kas tai? Tai yra kūno intelektas. Tai yra tai, kas lieka, kai nuimi visa kita. Jis gimsta iš rizikos, jautrumo, pasitikėjimo, tai bendravimas, kuris vyksta giliau nei kalba. Bet yra dar vienas sluoksnis — svarbiausias.\n\nTango instinktas turi erotinį pradą. Tai nėra apie seksualumą tiesiogiai. Tai apie gyvybinę energiją — trauką, impulsą artėti, jungtis, reaguoti. Tai tas pats impulsas, kuris verčia pagauti žvilgsnį, suartėti, užuosti ir pajusti, kad "čia kažkas vyksta". Ir tango šitą instinktą legalizuoja. \n\nŠoka Europos tango čempionas Alexis Gonzales, Vilnaius tango teatro šokėjai: Veronica Luna, Gabriel Carballo, Jade Rodriguez, Eduardo Pedroso, Sol Oyhenart;\n\n \n\nVokalistė Patricija Luščynska;\n\n \n\nChoreografai: Sigitas Repšys ir Alexis Gonzalez.\n
LOCATION:Jonava, Žeimių g. 15, Jonavos kultūros centras
BEGIN:VALARM
TRIGGER:-P2D
ACTION:DISPLAY
DESCRIPTION:Go to Vilniaus tango teatras - Tango Instinktas!
END:VALARM
END:VEVENT
END:VCALENDAR
