BEGIN:VCALENDAR
VERSION:2.0
PRODID:-//AllEvents.lt//NONSGML Event//EN
BEGIN:VEVENT
UID:123731@allevents.lt
DTSTAMP:20260425T150153Z
DTSTART:20260509T194500
DTEND:20260509T211500
SUMMARY:The Blues and The Abstract | Deimantas Balys ir Pavel Arakelian - AllEvents.lt
DESCRIPTION:https://allevents.lt/koncertai/vilnius/downtown-piano-lab-pc-europa/123731-koncertas-the-blues-and-the-abstract-deimantas-balys-ir-pavel-arakelian-vilnius-2026-bilietai\nThe Blues and The Abstract – tai gitaristo Deimanto Balio ir saksofonininko Pavel Arakelian duetas, kviečiantis į gyvą, atvirą muzikinį dialogą tarp tradicijos ir šiuolaikinės improvizacijos. Pavadinimas įkvėptas Oliver Nelson'o albumo The Blues and the Abstract Truth, tačiau programa neapsiriboja vien istorine nuoroda – tai asmeniška, šiandieninė šios idėjos interpretacija.Koncerto metu skambės muzikantų mėgstami bliuzo kūriniai bei įvairios pakraipos džiazo standartai – nuo jautrių baladžių iki spalvingesnių, platesnės harmonijos ar laisvesnės formos kompozicijų. Greta jų gali atsirasti ir originalūs kūriniai, atspindintys abiejų atlikėjų muzikinį braižą.Tai vakaras, kuriame bliuzas tampa atspirties tašku platesnei muzikinei kelionei – tarp aiškios formos ir abstrakcijos, tarp tradicijos ir spontaniško kūrybinio momento.Durys atidaromos: ~19:30Renginio trukmė: ~1:30Pertraukos: taip, 1.Renginio kalba: lietuvių, anglųVaikai įleidžiami nemokamai: neAmžiaus cenzas: nėraNuolaidos: netaikomosNorėdami įsigyti 10 ir daugiau bilietų galite kreiptis vipklientai@bilietai.lt
LOCATION:Vilnius, Konstitucijos pr. 7A, 3 aukštas, Downtown Piano Lab, PC Europa
BEGIN:VALARM
TRIGGER:-P2D
ACTION:DISPLAY
DESCRIPTION:Go to The Blues and The Abstract | Deimantas Balys ir Pavel Arakelian!
END:VALARM
END:VEVENT
END:VCALENDAR
