BEGIN:VCALENDAR
VERSION:2.0
PRODID:-//AllEvents.lt//NONSGML Event//EN
BEGIN:VEVENT
UID:123741@allevents.lt
DTSTAMP:20260425T152120Z
DTSTART:20260829T200000
DTEND:20260829T212000
SUMMARY:OKT / Vilniaus miesto teatras: "Šventoji" (Rež. Eglė Jackaitė ir Oskaras Koršunovas) | NIDA - AllEvents.lt
DESCRIPTION:https://allevents.lt/teatras/nida/nidos-kulturos-ir-turizmo-informacijos-centras-agila/123741-teatras-okt-vilniaus-miesto-teatras-sventoji-rez-egle-jackaite-ir-oskaras-korsunovas-nida-nida-2026-bilietai\nOKT / Vilniaus miesto teatras: „Šventoji” (Rež. Eglė Jackaitė ir Oskaras Koršunovas) Gandais ir mistika apipinta Marijos Egiptietės istorija – tai taškas, nuo kurio atsispiria spektaklio kūrėjai. Ši savo kūną priversta pardavinėti moteris, gyvenusi IV a. Aleksandrijoje, kartu su piligrimais keliavo į Jeruzalę. Visgi, vartai prie Šventojo kapo jai buvo užverti. Po to ji ilgus metus klajojo dykumoje, ieškodama atgailos ir ramybės.Kaip galėtų atrodyti XXI amžiaus Marijos Egiptietės, klaidžiojančios po urbanizuotą „dykumą“ ir ieškančios išsilaisvinimo, istorija? Ar tapus labiau civilizuotai mūsų visuomenėje liko mažiau prievartos? Ar ji tapo labiau empatiška? Atlaidesnė? Tolerantiškesnė? Galiausiai, mažiau patriarchalinė?Šiandien Marija Egiptietė gali būti kiekviena moteris – mama, dukra, sesuo, žmona, kasdien laviruojanti ta aštria riba tarp šventosios ir nuodėmingosios.Šioje premjeroje OKT/Vilniaus miesto teatras kvies įžengti į dar vieną neištirtą ir šį kartą itin nepatogią, tačiau ypač svarbią X teritoriją. „Šventoji“ – tai prievartos teritorija, kurioje moteris, visą gyvenimą kentusi prievartą ir priklausomybę, atranda jėgų išeiti iš savo krizės ir pasirinkti kardinaliai kitokią gyvenimo kryptį. Tai spektaklis apie moters išgyvenimą radikalioje patriarchalinėje visuomenėje, kupinoje prievartos moteriai.Inscenizacijos autoriaiEglė Jackaitė, Kunigunda Dineikaitė, Dali Rust, Oskaras Koršunovas Režisūra, choreografija, scenografija ir kostiumaiEglė Jackaitė, Oskaras Koršunovas Šviesos Vilius Vilutis MuzikaGintaras Sodeika VaidinaEglė Jackaitė Premjera2024 lapkričio  24 Spektaklio metu aktorė rūko, naudojama stroboskopo šviesPerkant 10 ir daugiau bilietų galite kreiptis: vipklientai@bilietai.lt Durys atidaromos: 19:00Renginio trukmė: 1:20Pertraukos: nėraRenginio kalba: lietuviųVaikai įleidžiami nemokamai: neAmžiaus cenzas: N16Nuolaidos: netaikomos
LOCATION:Nida, Taikos g. 4, Nida, Nidos kultūros ir turizmo informacijos centras Agila
BEGIN:VALARM
TRIGGER:-P2D
ACTION:DISPLAY
DESCRIPTION:Go to OKT / Vilniaus miesto teatras: "Šventoji" (Rež. Eglė Jackaitė ir Oskaras Koršunovas) | NIDA!
END:VALARM
END:VEVENT
END:VCALENDAR
