BEGIN:VCALENDAR
VERSION:2.0
PRODID:-//AllEvents.lt//NONSGML Event//EN
BEGIN:VEVENT
UID:123743@allevents.lt
DTSTAMP:20260425T150141Z
DTSTART:20270312T200000
DTEND:20270312T230000
SUMMARY:BI-2 - AllEvents.lt
DESCRIPTION:https://allevents.lt/koncertai/vilnius/arena-vilnius/123743-koncertas-bi-2-vilnius-2027-bilietai\n2026 m. grupė „Bi-2“ leidžiasi į pasaulinį turą su savo nauju albumu „Journey Around the Sun“.Tai didelio masto šou, kuriame skambės premjeros, populiarūs hitai ir unikali „Bi-2“ energija, kuri privers klausytojus vėl ir vėl grįžti į grupės koncertus. Programoje:● dainos iš albumo „Journey Around the Sun“● visų metų hitai, kuriuos dainuosite kartu● bekompromisis garsas, apšvietimas ir įspūdingas šou, paremtas nauja scenografija ir moderniausiomis technologijomis● ir svarbiausia – dialogas su publika, energijos mainai ir emocijos, kurios daugelį metų taps brangiais prisiminimais. Bilietų paklausa daugelyje pasaulio miestų jau didelė.Jei planavote apsilankyti „Bi-2“ koncerte – dabar pats geriausias laikas pirkti bilietus. Artėjant datoms, paprastai lieka tik ribotas vietų skaičius. O jei neplanavote, peržiūrėkite grupės turo tvarkaraštį ir suplanuokite: „Bi-2“ koncertuose tradiciškai dalyvauja draugų grupės, šeimos, poros ir pavieniai svečiai. Albumas „Kelionė aplink saulę“, kurį muzikantai vadina geriausiu grupės istorijoje, jau prieinamas visose transliacijų platformose. Organizatoriai pasilieka teisę plėsti/keisti salės planą. Norėdami įsigyti 10 ir daugiau bilietų galite kreiptis vipklientai@bilietai.ltDurys atidaromos: 1:30 iki renginio pradžiosRenginio trukmė: ~2:00 val.Pertraukos: nėraRenginio kalba: lietuviųVaikai įleidžiami nemokamai: iki 8 m. imtinai, neužimant papildomos sėdimos vietos.Amžiaus cenzas: N-6Nuolaidos: netaikomos Asmenims su judėjimo negalia (vežimėlyje) ir 1 lydinčiam asmeniui arenoje yra išskirtos atskiros vietos (bilietų kontrolės metu pateikti nuolaidą įrodantį dokumentą). Norint įsigyti neįgaliųjų vietas į nuolaidos laukelį įveskite kodą: NEIGALIESIEMS ir turėsite galimybę pasirinkti vietas 109;110;114 sektoriuose A eilėje.Amusnet Lounge sektoriaiPirkdami bilietus į juos gausite:• Atskirą įėjimą (jokių eilių!)• Nemokamą rūbinę (rūbinės dirba šaltuoju sezonu)• Geriausias vietas stebėti renginį• Patogias kėdes su laikikliu gėrimui• Kitas pramogas ir jaukią atmosferąBONUS sektoriaiPirkdami juos gausite:• 20 % nuolaida maistui ir gaiviesiems gėrimams arenos maitinimo baruose• Nemokamos rūbinės paslaugos bendrose arenos erdvėse (rūbinės dirba šaltuoju sezonu)*Įsigyjant šias vietas, jums nereikia turėti jokios narystės."ARENA VILNIUS" arenoje atsiskaityti galite tik mokėjimo kortelėmis ar išmaniaisiais įrenginiais.
LOCATION:Vilnius, Ozo g. 14, Arena Vilnius
BEGIN:VALARM
TRIGGER:-P2D
ACTION:DISPLAY
DESCRIPTION:Go to BI-2!
END:VALARM
END:VEVENT
END:VCALENDAR
