BEGIN:VCALENDAR
VERSION:2.0
PRODID:-//AllEvents.lt//NONSGML Event//EN
BEGIN:VEVENT
UID:123744@allevents.lt
DTSTAMP:20260425T150051Z
DTSTART:20260429T200000
DTEND:20260429T210000
SUMMARY:Stand up "PRAKTIKA" Vilnius - AllEvents.lt
DESCRIPTION:https://allevents.lt/teatras/vilnius/kitas-kampas-cocktail-bar/123744-teatras-stand-up-praktika-vilnius-vilnius-2026-bilietai\n\nMARKAS RAŠO NAUJĄ PROGRAMĄ, TIKRINASI BAJERIUStodėl daro "Praktikos" vakarą, kuriame jis ir kviestiniai komikai tikrinasi bajerius. Bus juokinga, nejuokinga, nejauku, keista, įdomu. Jūs būsite tie, kurie parodys man ir kolegoms - kas veikia, o kas ne. Didelė atsakomybė ir tuo pačiu gera pramoga. Renginio info:Amžiaus cenzas N-16 (apsaugos nebus, jei tau 7 metai, bet atrodai kaip 16-kos, gali ateit) Durys 19:00Renginio pradžia 20:00Bilietai negrąžinami, nebent mirei arba renginys neįvyko. \n
LOCATION:Vilnius, Malūnų gatvė, KITAS KAMPAS cocktail bar
BEGIN:VALARM
TRIGGER:-P2D
ACTION:DISPLAY
DESCRIPTION:Go to Stand up "PRAKTIKA" Vilnius!
END:VALARM
END:VEVENT
END:VCALENDAR
