BEGIN:VCALENDAR
VERSION:2.0
PRODID:-//AllEvents.lt//NONSGML Event//EN
BEGIN:VEVENT
UID:123746@allevents.lt
DTSTAMP:20260425T151109Z
DTSTART:20260509T110000
DTEND:20260509T120000
SUMMARY:Cars&Sports x Amíu - AllEvents.lt
DESCRIPTION:https://allevents.lt/sportas/vilnius/lumber-room/123746-sportas-cars-sports-x-am-u-vilnius-2026-bilietai\n\nSu pavasariu į Lumber Room sugrįžta ir jau ilgai lauktas renginys moterims Cars&Sports x AmíuGegužės 9d. susitinkame Pilates Sculpt treniruotėje su nuostabia trenere Ieva Jakubauskaite. Treniruotė puikiai tiks šeštadienio rytui, pratempsim ir sustiprinsim kūną bei raumenukus. Laukiamos visos, tiek pažengusios, tiek ir naujokės.Renginio draugas Amíu rūpinsis dalyvių sveikata ir grožiu, vertingos dovanos lauks kiekvienos dalyvės. Stilistė Greta Žvinklytė tradiciškai aptars pavasario/vasaros tendencijas, vasaros švenčių aprangos kodus ir idėjas.Po treniruotės tradiciškai lauks kava ir sveikuoliški Pleassurie pusryčiai.\n
LOCATION:Vilnius, Dūmų gatvė, Lumber Room
BEGIN:VALARM
TRIGGER:-P2D
ACTION:DISPLAY
DESCRIPTION:Go to Cars&Sports x Amíu!
END:VALARM
END:VEVENT
END:VCALENDAR
