BEGIN:VCALENDAR
VERSION:2.0
PRODID:-//AllEvents.lt//NONSGML Event//EN
BEGIN:VEVENT
UID:123747@allevents.lt
DTSTAMP:20260425T152202Z
DTSTART:20260505T190000
DTEND:20260505T200000
SUMMARY:Ekskursija Kauno tvirtovės IV forte - AllEvents.lt
DESCRIPTION:https://allevents.lt/parodos/kaunas/kauno-tvirtoves-iv-fortas/123747-parodos-ekskursija-kauno-tvirtoves-iv-forte-kaunas-2026-bilietai\n\nMaloniai kviečiame į pirmąsias šio sezono ekskursijas!!! Kviečiame visus smalsius ir pasiilgusius naujų potyrių turiningai praleisti laiką ekskursijose Kauno tvirtovėje. Ekskursijos metu laiką leisite gamtoje, lengvai pasivaikštant, su istoriniais pasakojimais apie Kauno tvirtovės istoriją. Apsilankysite tamsiausiuose ir vėsiausiuose požemiuose iš kurių jau išskrido šikšnosparniai. Pamatysite storiausias mūrines sienas ir pirmąjį betoną Lietuvoje. Sužinosite kodėl ir dėl ko atsirado tvirtovė Kaune ir kokią istoriją ji mena. Lokacija žemėlapyje: https://maps.app.goo.gl/MmAxro1JwbbiHt378 Ekskursijos kaina:9 Eur. / suaugusiam asmeniui6 Eur. / moksleiviams iki 18 metų6 Eur. / senjorams (pateikus pažymėjimą) Atsiskaitymas vietoje TIK BANKO KORTELE. Prašome atvykti bent 10 min. anksčiau prieš numatytą ekskursijos laiką.Bilietus galima įsigyti internetu. Trukmė – apie 1 val. 30 min. Daugiau informacijos telefonu: +370 37 309350 Rekomenduojame:- Pasirūpinti patogia apranga ir avalyne.- Turėkite šviesos šaltinį - žibintuvėlį.- Pasirūpinti repelentais nuo erkių ir kitų vabzdžių. *Ekskursijos metu gali būti filmuojama ir fotografuojama. Ateidami į ekskursiją sutinkate, jog jūsų atvaizdas gali būti matomas renginio nuotraukose ar vaizdo įrašuose, sutinkate, kad šios nuotraukos ar vaizdo įrašai gali būti patalpinti viešai prieinamuose šaltiniuose (žiniasklaidos priemonėse, socialiniuose tinkluose ir spaudoje)  \n
LOCATION:Kaunas, Plytinės g. 15, Kauno tvirtovės IV fortas
BEGIN:VALARM
TRIGGER:-P2D
ACTION:DISPLAY
DESCRIPTION:Go to Ekskursija Kauno tvirtovės IV forte!
END:VALARM
END:VEVENT
END:VCALENDAR
