BEGIN:VCALENDAR
VERSION:2.0
PRODID:-//AllEvents.lt//NONSGML Event//EN
BEGIN:VEVENT
UID:123753@allevents.lt
DTSTAMP:20260425T150230Z
DTSTART:20260530T190000
DTEND:20260530T200000
SUMMARY:STAND UP - WORK IN PROGRESS | KAUNAS - AllEvents.lt
DESCRIPTION:https://allevents.lt/teatras/kaunas/erdve/123753-teatras-stand-up-work-in-progress-kaunas-kaunas-2026-bilietai\n\nSTAND UP - WORK IN PROGRESS | KAUNASSTAND UP - WORK IN PROGRESS SHOW!!!Jeigu jums patinka žiūrėti, kaip kažkas kažką bando, šis šou kaip tik jums – keturi vyriškiai bandys jus prajuokinti naujai parašytais bajeriais! Šou tikrai bus įdomus, nes savo šposus skaldys:VANILLA KILLA BMANTAS PATARAKASŽILVINAS KERBELISTOMAŠ RYNKEVIČSusimatom Gegužės 30 d - Erdvė, Kaunas--Durys - 18:00Pradžia - 19:00Bilietai negrąžinami.\n
LOCATION:Kaunas, Valančiaus g. 11, Erdvė
BEGIN:VALARM
TRIGGER:-P2D
ACTION:DISPLAY
DESCRIPTION:Go to STAND UP - WORK IN PROGRESS | KAUNAS!
END:VALARM
END:VEVENT
END:VCALENDAR
