BEGIN:VCALENDAR
VERSION:2.0
PRODID:-//AllEvents.lt//NONSGML Event//EN
BEGIN:VEVENT
UID:123755@allevents.lt
DTSTAMP:20260425T151246Z
DTSTART:20260521T171500
DTEND:20260521T181500
SUMMARY:Paskaita su filosofu dr. Liutauru Degėsiu: MENAS KAIP GYVENIMO KOMPLIKACIJA - AllEvents.lt
DESCRIPTION:https://allevents.lt/kiti/klaipeda/danes-skveras/123755-paskaita-su-filosofu-dr-liutauru-degesiu-menas-kaip-gyvenimo-komplikacija-klaipeda-2026-bilietai\n\n„Menas kaip gyvenimo komplikacija“Lektorius – dr. Liutauras DegėsysAr tikrai pasaulis yra toks paprastas, kokį jį norime matyti? O gal mūsų susikurtas aiškumas – tik iliuzija, kuri neišvengiamai subyra susidūrus su tikrove?Kviečiame į paskaitą, kurioje dr. Liutauras Degėsys kvies pažvelgti į meną kaip į būdą pasiruošti sudėtingam, nenuspėjamam gyvenimui. Renginyje kalbėsime apie tai, kodėl pasaulis netelpa į schemas, stereotipus ir šablonus – ir kaip būtent menas gali padėti su tuo susitaikyti.Paskaitos metu sužinosite:kodėl mūsų siekis supaprastinti pasaulį dažnai tampa saviapgaule,kaip pasirengimas sudėtingumui gali keisti mūsų santykį su realybe,kuo menas gali būti naudingas kasdienybėje – kaip prevencinė ir terapinė patirtis.Menas ne tik išlaisvina, bet ir skatina eksperimentuoti, ugdo toleranciją neapibrėžtumui, padeda keistis ir priimti kitoniškumą.Ateikite, jei norite būti nustebinti, išjudinti ir pažvelgti į pasaulį plačiau.Laukiame Jūsų paskaitoje!\n
LOCATION:Klaipėda, Danės gatvė, Danės skveras
BEGIN:VALARM
TRIGGER:-P2D
ACTION:DISPLAY
DESCRIPTION:Go to Paskaita su filosofu dr. Liutauru Degėsiu: MENAS KAIP GYVENIMO KOMPLIKACIJA!
END:VALARM
END:VEVENT
END:VCALENDAR
