BEGIN:VCALENDAR
VERSION:2.0
PRODID:-//AllEvents.lt//NONSGML Event//EN
BEGIN:VEVENT
UID:123757@allevents.lt
DTSTAMP:20260425T152304Z
DTSTART:20261114T090000
DTEND:20261114T100000
SUMMARY:Koučingo Buzz'as 2026 - didžiausias koučingo renginys Lietuvoje - AllEvents.lt
DESCRIPTION:https://allevents.lt/kiti/kaunas/nacionalinis-m-k-ciurlionio-dailes-muziejus/123757-koucingo-buzzas-2026-didziausias-koucingo-renginys-lietuvoje-kaunas-2026-bilietai\n\nTrečius metus iš eilės vyksiantis didžiausias koučingo renginys Lietuvoje – „ICF Koučingo Buzz 2026“ – vėl suburs bendruomenę, kurioje gimsta idėjos, auga žmonės ir vyksta tikri pokyčiai.Po vienu stogu susitiks koučingo specialistai, organizacijų vadovai, personalo profesionalai, švietimo atstovai ir visi, besidomintys koučingu bei jo taikymu kasdienybėje ir profesinėje veikloje. Tai erdvė, kurioje kuriamas ryšys, dalijamasi patirtimi ir įžvalgomis, o įkvėpimas virsta veiksmu.Renginyje pasirodys ne tik Lietuvos koučingo bendruomenės nariai, bet ir tarptautiniai pranešėjai, pristatantys pasaulines tendencijas, naujausias metodikas ir įkvepiančias praktikas.Nors šių metų tema dar laikoma paslaptyje, „Buzz“ kvies pajusti pulsą to, kas svarbiausia šiandien: sąmoningą augimą, autentišką lyderystę ir drąsą keistis.\n
LOCATION:Kaunas, V. Putvinskio gatvė, Nacionalinis M. K. Čiurlionio dailės muziejus
BEGIN:VALARM
TRIGGER:-P2D
ACTION:DISPLAY
DESCRIPTION:Go to Koučingo Buzz'as 2026 - didžiausias koučingo renginys Lietuvoje!
END:VALARM
END:VEVENT
END:VCALENDAR
