BEGIN:VCALENDAR
VERSION:2.0
PRODID:-//AllEvents.lt//NONSGML Event//EN
BEGIN:VEVENT
UID:123758@allevents.lt
DTSTAMP:20260425T150230Z
DTSTART:20260506T180000
DTEND:20260506T190000
SUMMARY:Kvepalai – palinkėjimas sau - AllEvents.lt
DESCRIPTION:https://allevents.lt/kiti/vilnius/suzydek-kurybos-studija/123758-kvepalai-palinkejimas-sau-vilnius-2026-bilietai\n\nNatūralių aliejinių kvepalų dirbtuvėsTai vakaras sau – sustoti, įsiklausyti ir per kvapus susikurti tai, ko šiandien labiausiai reikia.Dirbtuvių metu neieškosime „gražiausio kvapo“.Per pojūtį ir intuiciją rinksimės kvapus, kurie atspindi tave ir tavo norimą būseną – ramybę, lengvumą, drąsą, aiškumą ar švelnumą.Remiantis aromaterapijos principais ir vidiniu pajautimu, susikursi savo asmeninius natūralius aliejinius kvepalus, kurie taps tavo kasdieniu priminimu ir palaikymu.Kiekviena dalyvė išsineš:– savo sukurtus aliejinius kvepalus– aiškesnį ryšį su savo vidine būsena– laiką sau ir įkvėpimą kasdienybeiDirbtuvės paremtos kvapų ir būsenų ryšiu – kvapai veikia mūsų emocinę atmintį ir gali švelniai padėti sugrįžti į norimą būseną? Gegužės 6 d.? 18:00 val.? SUŽYDĖK studija? Kaina: 35 €/asm? Dalyvaujant dviese: 29 €/asm✨ Vietų skaičius ribotas – rezervacija būtina.? Renginio metu gali būti fotografuojama ir filmuojama. Įsigydami bilietą, jūs sutinkate, kad jūsų atvaizdas gali būti panaudotas renginio komunikacijoje.\n
LOCATION:Vilnius, Giedraičių gatvė, Sužydėk kūrybos studija
BEGIN:VALARM
TRIGGER:-P2D
ACTION:DISPLAY
DESCRIPTION:Go to Kvepalai – palinkėjimas sau!
END:VALARM
END:VEVENT
END:VCALENDAR
