BEGIN:VCALENDAR
VERSION:2.0
PRODID:-//AllEvents.lt//NONSGML Event//EN
BEGIN:VEVENT
UID:123759@allevents.lt
DTSTAMP:20260425T152304Z
DTSTART:20260523T100000
DTEND:20260523T110000
SUMMARY:Edukacija ,,Stiklo mozaika" - AllEvents.lt
DESCRIPTION:https://allevents.lt/kiti/klaipeda/kulturos-fabrikas-kino-klubas-8-1-2/123759-edukacija-stiklo-mozaika-klaipeda-2026-bilietai\n\nKviečiame šeimas ir pavienius asmenis į edukacinį užsiėmimą, kuriame sužinosite daugiau apie stiklo radinius Klaipėdoje, praktinio užsiėmimo metu dalyviai mozaikos principu gamina padėkliuką. Trukmė - 1 val.Vietų kiekis ribotas.Kaina-8€ asmeniuiInformacija: el.p. gintarine.krantine@gmail.com, arba tel. +37067559647 \n
LOCATION:Klaipėda, Bangų g. 5A, Kultūros fabrikas, kino klubas 8 1/2
BEGIN:VALARM
TRIGGER:-P2D
ACTION:DISPLAY
DESCRIPTION:Go to Edukacija ,,Stiklo mozaika"!
END:VALARM
END:VEVENT
END:VCALENDAR
