BEGIN:VCALENDAR
VERSION:2.0
PRODID:-//AllEvents.lt//NONSGML Event//EN
BEGIN:VEVENT
UID:123760@allevents.lt
DTSTAMP:20260425T150142Z
DTSTART:20260516T100000
DTEND:20260516T110000
SUMMARY:Edukacija ,,Nuo kalvio iki kepėjo: Klaipėdos amatininkai" - AllEvents.lt
DESCRIPTION:https://allevents.lt/kiti/klaipeda/kulturos-fabrikas-kino-klubas-8-1-2/123760-edukacija-nuo-kalvio-iki-kepejo-klaipedos-amatininkai-klaipeda-2026-bilietai\n\n?? Tapkite Klaipėdos amatininku!Edukacijoje „Nuo kalvio iki kepėjo“ susipažinsite su Klaipėdos amatininkų istorija, išmoksite atpažinti gildijų ženklus ir įsikūniję į amatininką pereisite visus lygius – nuo mokinio iki meistro!Trukmė - 1 val.Kaina - 6€ asmeniuiVietų skaičius ribotas.Vieta - Klaipėdos kultūros fabrikasInformacija: el.p. gintarine.krantine@gmail.com arba tel. +37067559647 \n
LOCATION:Klaipėda, Bangų g. 5A, Kultūros fabrikas, kino klubas 8 1/2
BEGIN:VALARM
TRIGGER:-P2D
ACTION:DISPLAY
DESCRIPTION:Go to Edukacija ,,Nuo kalvio iki kepėjo: Klaipėdos amatininkai"!
END:VALARM
END:VEVENT
END:VCALENDAR
