BEGIN:VCALENDAR
VERSION:2.0
PRODID:-//AllEvents.lt//NONSGML Event//EN
BEGIN:VEVENT
UID:123762@allevents.lt
DTSTAMP:20260425T150152Z
DTSTART:20260429T180000
DTEND:20260429T190000
SUMMARY:Miuziklas „Padainuosiu savo svajonę“ - AllEvents.lt
DESCRIPTION:https://allevents.lt/koncertai/vilnius/vu-teatro-sale/123762-koncertas-miuziklas-padainuosiu-savo-svajone-vilnius-2026-bilietai\nMuzikinis spektakliukas vaikams ir jų tėveliams, kurio dalyviai yra grojantys, šokantys, dainuojantys vaikai.
LOCATION:Vilnius, Universiteto g. 3, VU Teatro salė
BEGIN:VALARM
TRIGGER:-P2D
ACTION:DISPLAY
DESCRIPTION:Go to Miuziklas „Padainuosiu savo svajonę“!
END:VALARM
END:VEVENT
END:VCALENDAR
