BEGIN:VCALENDAR
VERSION:2.0
PRODID:-//AllEvents.lt//NONSGML Event//EN
BEGIN:VEVENT
UID:123763@allevents.lt
DTSTAMP:20260425T151109Z
DTSTART:20260501T114500
DTEND:20260501T131500
SUMMARY:Spygliukė | Garsas - AllEvents.lt
DESCRIPTION:https://allevents.lt/kiti/panevezys/stasys-museum/123763-spygliuke-garsas-panevezys-2026-bilietai\nSpygliukė / SpikedJ. Karalystė,  Belgija, Prancūzija, nuotykių, animacinis, šeimos, 1:25, VRež. Caroline  OrigerĮgarsintas  lietuviškaiSpalvingas ir nuotaikingas  animacinis filmas vaikams ir visai šeimai apie netikėtą dviejų skirtingų herojų  susidūrimą, kuris perauga į pašėlusią, nuotykių kupiną kelionę.Susipažinkite su Hole –  nepaprastai drąsia ir ryžtinga ežiuke, gyvenančia švyturyje, ir jos kaimynu  Valteriu – nuvargusiu triušiu, apsuptu 52 mažylių, kasdien svajojančiu apie  tolimus kraštus ir didžius žygdarbius. Jų keliai susikerta tuomet, kai po nelaimingo  atsitikimo Valteris ima manyti esąs legendinis riteris, superdidvyris ir  princesių gelbėtojas, o Holė, pasinaudojusi proga ištrūkti iš nuobodžios  kasdienybės, leidžiasi kartu su juo išgalvoto nuotykio link. Iš pradžių viskas  primena smagų žaidimą, tačiau netrukus paaiškėja, kad tikras gyvenimas – visai  ne pasaka, o kai kurie sprendimai gali turėti ne visada smagių pasekmių.Tai šilta, pamokanti ir juoko  kupina istorija apie draugystę, šeimą, atsakomybę ir tai, kad tikra meilė bei  pasitikėjimas užsitarnaujami nuoširdumu.    *Kino bilietus galima įsigyti ir Stasys Museum kasoje.
LOCATION:Panevėžys, Respublikos g. 40, Stasys Museum
BEGIN:VALARM
TRIGGER:-P2D
ACTION:DISPLAY
DESCRIPTION:Go to Spygliukė | Garsas!
END:VALARM
END:VEVENT
END:VCALENDAR
