BEGIN:VCALENDAR
VERSION:2.0
PRODID:-//AllEvents.lt//NONSGML Event//EN
BEGIN:VEVENT
UID:123766@allevents.lt
DTSTAMP:20260425T150141Z
DTSTART:20260502T123000
DTEND:20260502T140500
SUMMARY:Žuviukas niurzga | Garsas - AllEvents.lt
DESCRIPTION:https://allevents.lt/kiti/panevezys/stasys-museum/123766-zuviukas-niurzga-garsas-panevezys-2026-bilietai\nŽuviukas niurzga / The Pout-Pout FishAustralija, JAV, animacinis, šeimos, nuotykių,  2026, 1:32, VRež. Ricard CussóĮgarsintas lietuviškaiNuo balandžio 24 d. kino teatruose – pasinerk į  stebuklingą ir nuotykių kupiną povandeninį pasaulį animaciniame filme „Žuviukas  Niurzga“. Išdykusi istorija visai šeimai sukurta pagal to paties pavadinimo,  itin populiarią vaikų knygų seriją, kurią pamilo milijonai vaikų visame  pasaulyje.Vandenyno dugne, kur švyti spalvingi koralai, kriauklėse slepiasi spindintys  perlai, linksmai šoka jūrų žvaigždės ir spalvotos žuvytės, stūkso nuskendęs  laivas. Jame ramiai gyvena žuviukas Niurzga – tikras burbeklis! Jo lūpos visada  surauktos, lyg jis ką tik būtų suvalgęs pačią rūgščiausią citriną. Bet jis nėra  piktas, tiesiog labai rimtas, mėgsta ramybę ir... pasinerti į meditacijąVieną dieną Niurzgos tyli kasdienybė baigiasi – į  nuskendusį laivą netikėtai įsiveržia mažytė, labai smalsi išdykėlė jūrų drakonė  Pipa. Ji – nauja kaimynė, kurios tėvai netrukus susilauks trijų ar net keturių  šimtų mažylių, tad Pipa ieško visko, kas praverstų naujuose namuose. Ji griebia  viską iš eilės: senas dėžes, inkarus ir net kruopščiai Niurzgos saugotus  akmenukus. Besiginčijant, kažkas trakšteli, ir... Niurzgos pusė namo nugarmi į  bedugnę kartu nusinešdamas ir mažosios Pipos namus!Abu likę be stogo virš galvos ir prisidirbę iki ausų, du keistuoliai turi tik  vieną išeitį – leistis į vandenyno platybes ieškoti stebuklingos žuvelės  Blykstės, galinčios išpildyti norą – bet... tik VIENĄ!  Štai tada nuotykiai ir prasideda! Pasirodo žuvelės Blykstės ieško ne tik  Niurzga ir Pipa, bet ir jūrų moliuskas – sepija Benas. Jam taip pat reikia  paslaptingosios Blykstės pagalbos, nes viską savo kelyje griaužiantys rudieji  dumbliai tuoj praris jo spalvingąją bendruomenę! Prasideda tikros lenktynės –  kas suras pirmas paslaptingąją Blykstę! Ar pavyks Niurzgai išlaikyti ramybę?  Gal pagaliau jis išmoks šypsotis? O gal visi taps geriausiais draugais, nes tik  kartu įmanoma įveikti neįveikiamas kliūtis?  Aišku tik viena – šis nuotykis apvers visą vandenyną aukštyn kojom! Pasiruošk  giliausiam ir linksmiausiam nardymui kino teatruose!    *Kino bilietus galima įsigyti ir Stasys Museum kasoje.                
LOCATION:Panevėžys, Respublikos g. 40, Stasys Museum
BEGIN:VALARM
TRIGGER:-P2D
ACTION:DISPLAY
DESCRIPTION:Go to Žuviukas niurzga | Garsas!
END:VALARM
END:VEVENT
END:VCALENDAR
