BEGIN:VCALENDAR
VERSION:2.0
PRODID:-//AllEvents.lt//NONSGML Event//EN
BEGIN:VEVENT
UID:123767@allevents.lt
DTSTAMP:20260425T150050Z
DTSTART:20260502T192000
DTEND:20260502T212500
SUMMARY:Amerikietiška svajonė | Garsas - AllEvents.lt
DESCRIPTION:https://allevents.lt/kiti/panevezys/stasys-museum/123767-amerikietiska-svajone-garsas-panevezys-2026-bilietai\nAmerikietiška svajonė / Le Rêve américainPrancūzija,  komedija, 2026, 2:02, N-7Rež. Anthony  MarcianoVaid.:  Jean-Pascal Zadi, Raphaël Quenard, Josh CasaubonOriginalo k.:  prancūzų, anglųSubtitrai:  lietuvių                Džeremis dienas leidžia už vaizdajuosčių parduotuvės prekystalio – pasaulyje, stipriai nutolusiame nuo amerikietiškų krepšinio aikštelių, kuriomis žavisi žiūrėdamas vaizdo kasetes. Tuo tarpu Buna valo oro uostą, prikaustytas prie šios vietos dėl menkų perspektyvų ir nuolat dingstančio interneto ryšio. Iš pirmo žvilgsnio neatrodo, kad jiems būtų lemta įsiveržti į konkurencingą profesionalaus krepšinio pasaulį – juolab jame dominuoti. Filmo „Neliečiamieji“ kūrėjai pristato neįtikėtiną tikrą istoriją apie du autsaiderius, įveikusius visas kliūtis, kad įgyvendintų savo amerikietišką svajonę.    *Kino bilietus galima įsigyti ir Stasys Museum kasoje.        
LOCATION:Panevėžys, Respublikos g. 40, Stasys Museum
BEGIN:VALARM
TRIGGER:-P2D
ACTION:DISPLAY
DESCRIPTION:Go to Amerikietiška svajonė | Garsas!
END:VALARM
END:VEVENT
END:VCALENDAR
