BEGIN:VCALENDAR
VERSION:2.0
PRODID:-//AllEvents.lt//NONSGML Event//EN
BEGIN:VEVENT
UID:123772@allevents.lt
DTSTAMP:20260425T150029Z
DTSTART:20260503T194500
DTEND:20260503T213500
SUMMARY:Namie geriausia | Garsas - AllEvents.lt
DESCRIPTION:https://allevents.lt/kiti/panevezys/stasys-museum/123772-namie-geriausia-garsas-panevezys-2026-bilietai\nNamie geriausia / Dom dobryLenkija, drama, trileris, 2025, 1:47, N-18Rež. Wojciech SmarzowskiVaidina: Agata Turkot, Tomasz Schuchardt, Agata KuleszaOriginalo k.: lenkųSubtitrai: lietuvių    Energinga ir pasauliui atvira Goška pažinčių svetainėje susipažįsta su neseniai išsiskyrusiu politiku Gžeseku. Vyras dėl jos pametęs galvą: apipila gėlėmis ir Venecijoje pasiperša. Tikra romantika, tiesa? Tačiau tai – tik paviršius. Netrukus ima ryškėti tamsioji vyro pusė, ir bendri namai Goškai tampa pavojingiausia vieta, o institucijos stoja žavingo, įtakingo monstro pusėn, jam po truputį naikinant kiekvieną moters dalelę.Šiame filme gali būti scenų, kurios kai kuriuos žiūrovus gali trikdyti.    *Kino bilietus galima įsigyti ir Stasys Museum kasoje.                    
LOCATION:Panevėžys, Respublikos g. 40, Stasys Museum
BEGIN:VALARM
TRIGGER:-P2D
ACTION:DISPLAY
DESCRIPTION:Go to Namie geriausia | Garsas!
END:VALARM
END:VEVENT
END:VCALENDAR
