BEGIN:VCALENDAR
VERSION:2.0
PRODID:-//AllEvents.lt//NONSGML Event//EN
BEGIN:VEVENT
UID:123780@allevents.lt
DTSTAMP:20260425T150050Z
DTSTART:20260507T201000
DTEND:20260507T214500
SUMMARY:Hind Radžab balsas | Garsas - AllEvents.lt
DESCRIPTION:https://allevents.lt/kiti/panevezys/stasys-museum/123780-hind-radzab-balsas-garsas-panevezys-2026-bilietai\nHind Radžab balsas / Sawt Hind RajabPrancūzija, Tunisas, JAV, Jungtinė Karalystė,  Kipras, Saudo Arabija, Italija, drama, 2025, 1:29, N-16Rež. Kaouther Ben HaniaVaid. Saja Kilani, Motaz Malhees, Amer HlehelOriginalo k.: arabųSubtitrai: lietuvių2024 m.  sausio 29 d. Palestinos pagalbos centrą pasiekė beviltiškas skambutis: šeima  įstrigo automobilyje, apšaudomame Izraelio karinių pajėgų. Po akimirkos buvo  girdėti tik šešiametė Hind Radžab – viena tarp žuvusių artimųjų, maldaujanti ją  išgelbėti. Pasitelkdamas teismo ekspertizės lygio garso analizę ir artimųjų  liudijimus, filmas peržengia naujienų antraštes ir sukrečiančiai rekonstruoja  tikrą įvykį.Subtitrai kurtiesiems ir neprigirdintiems rodomi visuose kino teatruose visuose  seansuose.  „Jau antrąjį kartą „Oskarui“ nominuota režisierė Kaouther Ben Hania  atsitiktinai išgirdo Hind Radžab skambučio įrašą, apskriejusį visą pasaulį.  Patirtis buvo tokia stipri, kad ji nedelsdama sustabdė dešimtmetį rengtą  projektą ir per vienus metus sukūrė šį filmą. Tai minimalistinis kūrinys:  veiksmas vyksta vienoje erdvėje, o smurtas lieka už kadro. Tikras garso įrašas  čia tampa neginčijamu tiesos įrodymu ir pasipriešinimu užmarščiai.“ (Programos  sudarytojas Karolis Žukas)  Pasaulinė premjera: Venecijos kino festivalis, Konkursinė programa, 2025 m.  Apdovanojimai: Didysis žiuri prizas, Venecijos kino festivalis, 2025 m.;  Žiūrovų apdovanojimas, San Sebastiano kino festivalis, 2025 m. Geriausias  tarptautinis vaidybinis filmas, Oskarų nominacijos, 2026 m.    *Kino bilietus galima įsigyti ir Stasys Museum kasoje.                
LOCATION:Panevėžys, Respublikos g. 40, Stasys Museum
BEGIN:VALARM
TRIGGER:-P2D
ACTION:DISPLAY
DESCRIPTION:Go to Hind Radžab balsas | Garsas!
END:VALARM
END:VEVENT
END:VCALENDAR
