BEGIN:VCALENDAR
VERSION:2.0
PRODID:-//AllEvents.lt//NONSGML Event//EN
BEGIN:VEVENT
UID:123782@allevents.lt
DTSTAMP:20260425T150152Z
DTSTART:20260528T190000
DTEND:20260528T220000
SUMMARY:Tarptautinis mados renginys „APKALBOS 2026“ - AllEvents.lt
DESCRIPTION:https://allevents.lt/parodos/kaunas/blc-verslo-lyderiu-centras-a-korpusas/123782-parodos-tarptautinis-mados-renginys-apkalbos-2026-kaunas-2026-bilietai\nSmalsu, kokių mados pokštų ir interpretacijų gali pasiūlyti jaunųjų dizainerių karta? Norisi pamatyti kažką naujo, netikėto ir įdomaus? Gegužės 28 dieną mados aistruolius į Kauną kviečia Tarptautinis mados renginys „APKALBOS 2026“, kuriame savo kolekcijas pristatys jaunieji mados dizaineriai.Kauno kolegijos Menų akademijos iniciatyva organizuojamas renginys spėjo užimti aiškią poziciją Lietuvos mados žemėlapyje – šou organizuojamas jau daugiau kaip du dešimtmečius. Nekonkursinis renginys suteikia progą jauniesiems mados dizaineriams pristatyti savo kūrybą viešai, o mados gerbėjams – apsvarstyti intriguojančius reginius. Didžioji dauguma jaunųjų kūrėjų – iš Lietuvos. Prie jaunųjų menininkų desanto ketina prisijungti kūrėjai iš Latvijos ir Suomijos.
LOCATION:Kaunas, K. Donelaičio g. 60, BLC Verslo lyderių centras A korpusas
BEGIN:VALARM
TRIGGER:-P2D
ACTION:DISPLAY
DESCRIPTION:Go to Tarptautinis mados renginys „APKALBOS 2026“!
END:VALARM
END:VEVENT
END:VCALENDAR
