BEGIN:VCALENDAR
VERSION:2.0
PRODID:-//AllEvents.lt//NONSGML Event//EN
BEGIN:VEVENT
UID:123783@allevents.lt
DTSTAMP:20260425T150051Z
DTSTART:20260703T200000
DTEND:20260703T213000
SUMMARY:LOBODA - AllEvents.lt
DESCRIPTION:https://allevents.lt/koncertai/palanga/palangos-koncertu-sale/123783-koncertas-loboda-palanga-2026-bilietai\nLiepos 3 d. Palangos koncertų salėje įvyks išskirtinis šou, kuris pažadins stipriausias emocijas ir sušildys mūsų širdis. Į sceną žengs viena ryškiausių šiuolaikinės muzikos scenos žvaigždžių LOBODA, garsėjanti savo galingu balsu, energingais pasirodymais ir įspūdinga charizma.Ukrainos atlikėja, pelniusi milijonų gerbėjų simpatijas visame pasaulyje, dovanos unikalią muzikinę patirtį. Tai bus ne tik koncertas – tai bus muzikinė kelionė, kurioje susijungs stipri energija, įspūdinga choreografija ir kvapą gniaužianti atmosfera. Žiūrovai išgirs tiek didžiausius hitus, tiek naujausias dainas.Kyjive gimusi atlikėja yra ne tik mylima dainininkė, bet ir talentinga dainų autorė bei muzikos prodiuserė, nuolat stebinanti savo kūrybiškumu ir sceniniais sprendimais.Kviečiame jus į nepamirštamą populiariosios muzikos karalienės šou Palangoje!Pasiruoškite įspūdingam reginiui, kupinam emocijų, muzikos ir nepamirštamų akimirkų. Loboda – liepos 3 d., penktadienį, Palangos koncertų salėje.
LOCATION:Palanga, Vytauto g. 43, Palangos koncertų salė
BEGIN:VALARM
TRIGGER:-P2D
ACTION:DISPLAY
DESCRIPTION:Go to LOBODA!
END:VALARM
END:VEVENT
END:VCALENDAR
